BEGIN:VCALENDAR
VERSION:2.0
PRODID:-//Tennis in Vermont - ECPv6.15.20//NONSGML v1.0//EN
CALSCALE:GREGORIAN
METHOD:PUBLISH
X-ORIGINAL-URL:https://tennisinvt.com
X-WR-CALDESC:Events for Tennis in Vermont
REFRESH-INTERVAL;VALUE=DURATION:PT1H
X-Robots-Tag:noindex
X-PUBLISHED-TTL:PT1H
BEGIN:VTIMEZONE
TZID:UTC
BEGIN:STANDARD
TZOFFSETFROM:+0000
TZOFFSETTO:+0000
TZNAME:UTC
DTSTART:20220101T000000
END:STANDARD
END:VTIMEZONE
BEGIN:VEVENT
DTSTART;VALUE=DATE:20230401
DTEND;VALUE=DATE:20230402
DTSTAMP:20260425T201643
CREATED:20220804T132527Z
LAST-MODIFIED:20220804T132527Z
UID:7211-1680307200-1680393599@tennisinvt.com
SUMMARY:Adult 65 & Over | Team Intent Form Due
DESCRIPTION:(6.0\, 7.0\, 8.0\, 9.0)\nMen & Women
URL:https://tennisinvt.com/event/adult-65-over-team-intent-form-due/
LOCATION:VT
CATEGORIES:USTA Tennis
END:VEVENT
BEGIN:VEVENT
DTSTART;VALUE=DATE:20230401
DTEND;VALUE=DATE:20230402
DTSTAMP:20260425T201643
CREATED:20220804T132631Z
LAST-MODIFIED:20220804T132631Z
UID:7213-1680307200-1680393599@tennisinvt.com
SUMMARY:Mixed 55 & Over | Team Intent Form Due
DESCRIPTION:(6.0\, 7.0\, 8.0\, 9.0)
URL:https://tennisinvt.com/event/mixed-55-over-team-intent-form-due/
LOCATION:VT
CATEGORIES:USTA Tennis
END:VEVENT
END:VCALENDAR