BEGIN:VCALENDAR
VERSION:2.0
PRODID:-//Tennis in Vermont - ECPv6.15.20//NONSGML v1.0//EN
CALSCALE:GREGORIAN
METHOD:PUBLISH
X-WR-CALNAME:Tennis in Vermont
X-ORIGINAL-URL:https://tennisinvt.com
X-WR-CALDESC:Events for Tennis in Vermont
REFRESH-INTERVAL;VALUE=DURATION:PT1H
X-Robots-Tag:noindex
X-PUBLISHED-TTL:PT1H
BEGIN:VTIMEZONE
TZID:UTC
BEGIN:STANDARD
TZOFFSETFROM:+0000
TZOFFSETTO:+0000
TZNAME:UTC
DTSTART:20240101T000000
END:STANDARD
END:VTIMEZONE
BEGIN:VEVENT
DTSTART;TZID=UTC:20250712T080000
DTEND;TZID=UTC:20250816T170000
DTSTAMP:20260424T035659
CREATED:20250711T180141Z
LAST-MODIFIED:20250711T180141Z
UID:8082-1752307200-1755363600@tennisinvt.com
SUMMARY:Tennis in the Parks (Adults)
DESCRIPTION:Beginning July 14\, Winooski Parks & Recreation is hosting Tennis in the Parks for adults 18+. This opportunity is great if you are looking to get into tennis this summer! The program meets every Saturday from 9 to 10:30 am. For more information on registration or general questions\, please visit https://secure.rec1.com/VT/winooski-vt-2/.
URL:https://tennisinvt.com/event/tennis-in-the-parks-adults/
LOCATION:Landry Park Tennis Courts\, 53 Pine Street\, Winooski\, VT\, United States
END:VEVENT
BEGIN:VEVENT
DTSTART;VALUE=DATE:20250802
DTEND;VALUE=DATE:20250803
DTSTAMP:20260424T035659
CREATED:20250727T192549Z
LAST-MODIFIED:20250727T192549Z
UID:8172-1754092800-1754179199@tennisinvt.com
SUMMARY:USTA Southern Vermont August Classic L7 BG 12U & 14U
DESCRIPTION:
URL:https://tennisinvt.com/event/usta-southern-vermont-august-classic-l7-bg-12u-14u/
LOCATION:Brattleboro Union High School\, 131 Fairground Rd\, Brattleboro\, VT\, 05031\, United States
END:VEVENT
END:VCALENDAR