BEGIN:VCALENDAR
VERSION:2.0
PRODID:-//Tennis in Vermont - ECPv6.15.20//NONSGML v1.0//EN
CALSCALE:GREGORIAN
METHOD:PUBLISH
X-WR-CALNAME:Tennis in Vermont
X-ORIGINAL-URL:https://tennisinvt.com
X-WR-CALDESC:Events for Tennis in Vermont
REFRESH-INTERVAL;VALUE=DURATION:PT1H
X-Robots-Tag:noindex
X-PUBLISHED-TTL:PT1H
BEGIN:VTIMEZONE
TZID:UTC
BEGIN:STANDARD
TZOFFSETFROM:+0000
TZOFFSETTO:+0000
TZNAME:UTC
DTSTART:20240101T000000
END:STANDARD
END:VTIMEZONE
BEGIN:VEVENT
DTSTART;VALUE=DATE:20250903
DTEND;VALUE=DATE:20250904
DTSTAMP:20260424T024425
CREATED:20250720T134635Z
LAST-MODIFIED:20250720T134635Z
UID:8096-1756857600-1756943999@tennisinvt.com
SUMMARY:Saint Michael's Women's Tennis at Colby-Sawyer
DESCRIPTION:
URL:https://tennisinvt.com/event/saint-michaels-womens-tennis-at-colby-sawyer/
LOCATION:Colby-Sawyer\, New London\, NH\, United States
END:VEVENT
END:VCALENDAR