BEGIN:VCALENDAR
VERSION:2.0
PRODID:-//Tennis in Vermont - ECPv6.15.20//NONSGML v1.0//EN
CALSCALE:GREGORIAN
METHOD:PUBLISH
X-WR-CALNAME:Tennis in Vermont
X-ORIGINAL-URL:https://tennisinvt.com
X-WR-CALDESC:Events for Tennis in Vermont
REFRESH-INTERVAL;VALUE=DURATION:PT1H
X-Robots-Tag:noindex
X-PUBLISHED-TTL:PT1H
BEGIN:VTIMEZONE
TZID:UTC
BEGIN:STANDARD
TZOFFSETFROM:+0000
TZOFFSETTO:+0000
TZNAME:UTC
DTSTART:20240101T000000
END:STANDARD
END:VTIMEZONE
BEGIN:VEVENT
DTSTART;VALUE=DATE:20251003
DTEND;VALUE=DATE:20251006
DTSTAMP:20260424T012707
CREATED:20250720T161835Z
LAST-MODIFIED:20250720T161835Z
UID:8161-1759449600-1759708799@tennisinvt.com
SUMMARY:Middlebury Women's Tennis at Bowdoin Invitational
DESCRIPTION:
URL:https://tennisinvt.com/event/middlebury-womens-tennis-at-bowdoin-invitational/
LOCATION:Bowdoin\, Brunswick\, ME\, United States
END:VEVENT
BEGIN:VEVENT
DTSTART;VALUE=DATE:20251003
DTEND;VALUE=DATE:20251005
DTSTAMP:20260424T012707
CREATED:20250809T134256Z
LAST-MODIFIED:20250809T134256Z
UID:8192-1759449600-1759622399@tennisinvt.com
SUMMARY:Tennis Weekend
DESCRIPTION:This year’s focus once again is on growing\, supporting and developing coaches throughout New England. The section will provide a full lineup of local and national experts presenting on their experiences and best practices to help fellow coaches and players. The awards ceremony will be held on October 4th\, and will include one VERMONT winner! We are excited to celebrate Vermonters at any place\, any time!  \nHotel Accommodations must be booked by September 11 at Doubletree by Hilton in Nashua. Registration information and access to the USTA hotel booking rate are provided here.  Click here for more information and to register for USTA New England’s 2025 Tennis weekend \nUSTA Vermont has committed to supporting 11 attendees with scholarships to cover fees and partial hotel stipends by reimbursement. Please reach out to Joanna with questions at ustavtassoc@gmail.com  \n 
URL:https://tennisinvt.com/event/tennis-weekend/
LOCATION:Hampshire Hills Tennis Club\, Milford\, NH\, United States
END:VEVENT
BEGIN:VEVENT
DTSTART;TZID=UTC:20251004T130000
DTEND;TZID=UTC:20251004T160000
DTSTAMP:20260424T012707
CREATED:20250720T140358Z
LAST-MODIFIED:20250720T140358Z
UID:8117-1759582800-1759593600@tennisinvt.com
SUMMARY:Saint Michael's Women's Tennis at Assumption
DESCRIPTION:
URL:https://tennisinvt.com/event/saint-michaels-womens-tennis-at-assumption/
LOCATION:Assumption College\, Worcester\, Massachusetts
END:VEVENT
BEGIN:VEVENT
DTSTART;TZID=UTC:20251004T130000
DTEND;TZID=UTC:20251004T160000
DTSTAMP:20260424T012707
CREATED:20250720T143412Z
LAST-MODIFIED:20250720T143412Z
UID:8143-1759582800-1759593600@tennisinvt.com
SUMMARY:Saint Michael's Men's Tennis at Assumption
DESCRIPTION:
URL:https://tennisinvt.com/event/saint-michaels-mens-tennis-at-assumption-2/
LOCATION:Assumption College\, Worcester\, Massachusetts
END:VEVENT
END:VCALENDAR