BEGIN:VCALENDAR
VERSION:2.0
PRODID:-//Tennis in Vermont - ECPv6.15.20//NONSGML v1.0//EN
CALSCALE:GREGORIAN
METHOD:PUBLISH
X-WR-CALNAME:Tennis in Vermont
X-ORIGINAL-URL:https://tennisinvt.com
X-WR-CALDESC:Events for Tennis in Vermont
REFRESH-INTERVAL;VALUE=DURATION:PT1H
X-Robots-Tag:noindex
X-PUBLISHED-TTL:PT1H
BEGIN:VTIMEZONE
TZID:UTC
BEGIN:STANDARD
TZOFFSETFROM:+0000
TZOFFSETTO:+0000
TZNAME:UTC
DTSTART:20240101T000000
END:STANDARD
END:VTIMEZONE
BEGIN:VEVENT
DTSTART;VALUE=DATE:20251017
DTEND;VALUE=DATE:20251020
DTSTAMP:20260424T012038
CREATED:20250720T162144Z
LAST-MODIFIED:20250720T162144Z
UID:8164-1760659200-1760918399@tennisinvt.com
SUMMARY:Middlebury Women's Tennis at Skidmore Invitational
DESCRIPTION:
URL:https://tennisinvt.com/event/middlebury-womens-tennis-at-skidmore-invitational/
LOCATION:Skidmore\, Saratoga Springs\, NY\, United States
END:VEVENT
BEGIN:VEVENT
DTSTART;TZID=UTC:20251018T090000
DTEND;TZID=UTC:20251018T180000
DTSTAMP:20260424T012038
CREATED:20250930T142617Z
LAST-MODIFIED:20250930T142617Z
UID:8219-1760778000-1760810400@tennisinvt.com
SUMMARY:L7 Fall Foliage on clay | Brattleboro Outing Club October 18th | BG 12U - 18U
DESCRIPTION:
URL:https://tennisinvt.com/event/l7-fall-foliage-on-clay-brattleboro-outing-club-october-18th-bg-12u-18u/
LOCATION:Brattleboro Outing Tennis Club\, 202 Cedar Street\, Brattleboro\, VT\, United States
END:VEVENT
BEGIN:VEVENT
DTSTART;TZID=UTC:20251018T110000
DTEND;TZID=UTC:20251018T140000
DTSTAMP:20260424T012038
CREATED:20251008T152332Z
LAST-MODIFIED:20251008T152332Z
UID:8224-1760785200-1760796000@tennisinvt.com
SUMMARY:USTA Vermont League Captain's Appreciation Event at The Essex Edge
DESCRIPTION:
URL:https://tennisinvt.com/event/usta-vermont-league-captains-appreciation-event-at-the-essex-edge/
LOCATION:Edge Essex\, 4 Gauthier Drive\, Essex\, VT\, 05452\, United States
END:VEVENT
BEGIN:VEVENT
DTSTART;TZID=UTC:20251018T130000
DTEND;TZID=UTC:20251018T170000
DTSTAMP:20260424T012038
CREATED:20250720T144019Z
LAST-MODIFIED:20250720T144019Z
UID:8152-1760792400-1760806800@tennisinvt.com
SUMMARY:Saint Michael's Men's Tennis at Adelphi
DESCRIPTION:
URL:https://tennisinvt.com/event/saint-michaels-mens-tennis-at-adelphi-2/
LOCATION:Adelphi University\, Garden City\, New York
END:VEVENT
END:VCALENDAR