BEGIN:VCALENDAR
VERSION:2.0
PRODID:-//Tennis in Vermont - ECPv6.15.20//NONSGML v1.0//EN
CALSCALE:GREGORIAN
METHOD:PUBLISH
X-ORIGINAL-URL:https://tennisinvt.com
X-WR-CALDESC:Events for Tennis in Vermont
REFRESH-INTERVAL;VALUE=DURATION:PT1H
X-Robots-Tag:noindex
X-PUBLISHED-TTL:PT1H
BEGIN:VTIMEZONE
TZID:UTC
BEGIN:STANDARD
TZOFFSETFROM:+0000
TZOFFSETTO:+0000
TZNAME:UTC
DTSTART:20250101T000000
END:STANDARD
END:VTIMEZONE
BEGIN:VEVENT
DTSTART;VALUE=DATE:20260227
DTEND;VALUE=DATE:20260302
DTSTAMP:20260423T183836
CREATED:20260119T011919Z
LAST-MODIFIED:20260119T011919Z
UID:8291-1772150400-1772409599@tennisinvt.com
SUMMARY:Middlebury Women's Tennis ITA Indoor Nationals
DESCRIPTION:
URL:https://tennisinvt.com/event/middlebury-womens-tennis-ita-indoor-nationals/
LOCATION:VT
END:VEVENT
END:VCALENDAR