BEGIN:VCALENDAR
VERSION:2.0
PRODID:-//Tennis in Vermont - ECPv6.15.20//NONSGML v1.0//EN
CALSCALE:GREGORIAN
METHOD:PUBLISH
X-WR-CALNAME:Tennis in Vermont
X-ORIGINAL-URL:https://tennisinvt.com
X-WR-CALDESC:Events for Tennis in Vermont
REFRESH-INTERVAL;VALUE=DURATION:PT1H
X-Robots-Tag:noindex
X-PUBLISHED-TTL:PT1H
BEGIN:VTIMEZONE
TZID:UTC
BEGIN:STANDARD
TZOFFSETFROM:+0000
TZOFFSETTO:+0000
TZNAME:UTC
DTSTART:20250101T000000
END:STANDARD
END:VTIMEZONE
BEGIN:VEVENT
DTSTART;TZID=UTC:20260314T110000
DTEND;TZID=UTC:20260314T170000
DTSTAMP:20260423T182415
CREATED:20260119T012148Z
LAST-MODIFIED:20260119T012148Z
UID:8297-1773486000-1773507600@tennisinvt.com
SUMMARY:Middlebury Women's Tennis vs Bates College
DESCRIPTION:
URL:https://tennisinvt.com/event/middlebury-womens-tennis-vs-bates-college/
LOCATION:Middlebury College\, VT\, United States
END:VEVENT
BEGIN:VEVENT
DTSTART;TZID=UTC:20260314T130000
DTEND;TZID=UTC:20260314T170000
DTSTAMP:20260423T182415
CREATED:20260119T202141Z
LAST-MODIFIED:20260119T202141Z
UID:8327-1773493200-1773507600@tennisinvt.com
SUMMARY:Middlebury Men's Tennis at Bates College
DESCRIPTION:
URL:https://tennisinvt.com/event/middlebury-mens-tennis-at-bates-college/
LOCATION:VT
END:VEVENT
BEGIN:VEVENT
DTSTART;TZID=UTC:20260314T130000
DTEND;TZID=UTC:20260314T170000
DTSTAMP:20260423T182415
CREATED:20260119T213710Z
LAST-MODIFIED:20260119T213710Z
UID:8397-1773493200-1773507600@tennisinvt.com
SUMMARY:Lyndon Men's Tennis at Vermont State University Castleton
DESCRIPTION:
URL:https://tennisinvt.com/event/lyndon-mens-tennis-at-vermont-state-university-castleton/
LOCATION:VT
END:VEVENT
END:VCALENDAR