BEGIN:VCALENDAR
VERSION:2.0
PRODID:-//Tennis in Vermont - ECPv6.15.20//NONSGML v1.0//EN
CALSCALE:GREGORIAN
METHOD:PUBLISH
X-ORIGINAL-URL:https://tennisinvt.com
X-WR-CALDESC:Events for Tennis in Vermont
REFRESH-INTERVAL;VALUE=DURATION:PT1H
X-Robots-Tag:noindex
X-PUBLISHED-TTL:PT1H
BEGIN:VTIMEZONE
TZID:UTC
BEGIN:STANDARD
TZOFFSETFROM:+0000
TZOFFSETTO:+0000
TZNAME:UTC
DTSTART:20250101T000000
END:STANDARD
END:VTIMEZONE
BEGIN:VEVENT
DTSTART;TZID=UTC:20260315T100000
DTEND;TZID=UTC:20260315T140000
DTSTAMP:20260423T182944
CREATED:20260223T192952Z
LAST-MODIFIED:20260223T192952Z
UID:8438-1773568800-1773583200@tennisinvt.com
SUMMARY:Vermont High School Tennis Workshop
DESCRIPTION:Vermont High School Coaches Workshop flyer large format PDF
URL:https://tennisinvt.com/event/vermont-high-school-tennis-workshop/
LOCATION:Edge Essex\, 4 Gauthier Drive\, Essex\, VT\, 05452\, United States
END:VEVENT
END:VCALENDAR