BEGIN:VCALENDAR
VERSION:2.0
PRODID:-//Tennis in Vermont - ECPv6.15.20//NONSGML v1.0//EN
CALSCALE:GREGORIAN
METHOD:PUBLISH
X-ORIGINAL-URL:https://tennisinvt.com
X-WR-CALDESC:Events for Tennis in Vermont
REFRESH-INTERVAL;VALUE=DURATION:PT1H
X-Robots-Tag:noindex
X-PUBLISHED-TTL:PT1H
BEGIN:VTIMEZONE
TZID:UTC
BEGIN:STANDARD
TZOFFSETFROM:+0000
TZOFFSETTO:+0000
TZNAME:UTC
DTSTART:20250101T000000
END:STANDARD
END:VTIMEZONE
BEGIN:VEVENT
DTSTART;VALUE=DATE:20260411
DTEND;VALUE=DATE:20260412
DTSTAMP:20260423T171749
CREATED:20260119T214049Z
LAST-MODIFIED:20260119T214049Z
UID:8405-1775865600-1775951999@tennisinvt.com
SUMMARY:Lyndon Men's Tennis vs Lesley University
DESCRIPTION:
URL:https://tennisinvt.com/event/lyndon-mens-tennis-vs-lesley-university/
LOCATION:VTSU Lyndon\, Lyndon\, Vermont
END:VEVENT
BEGIN:VEVENT
DTSTART;TZID=UTC:20260411T100000
DTEND;TZID=UTC:20260411T170000
DTSTAMP:20260423T171749
CREATED:20260119T012717Z
LAST-MODIFIED:20260119T012717Z
UID:8309-1775901600-1775926800@tennisinvt.com
SUMMARY:Middlebury Women's Tennis vs Trinity College (Conn.)
DESCRIPTION:
URL:https://tennisinvt.com/event/middlebury-womens-tennis-vs-trinity-college-conn/
LOCATION:Middlebury College\, VT\, United States
END:VEVENT
BEGIN:VEVENT
DTSTART;TZID=UTC:20260411T120000
DTEND;TZID=UTC:20260411T170000
DTSTAMP:20260423T171749
CREATED:20260119T202837Z
LAST-MODIFIED:20260119T202837Z
UID:8343-1775908800-1775926800@tennisinvt.com
SUMMARY:Middleburry Men's Tennis at Trinity College (Conn.)
DESCRIPTION:
URL:https://tennisinvt.com/event/middleburry-mens-tennis-at-trinity-college-conn/
LOCATION:VT
END:VEVENT
BEGIN:VEVENT
DTSTART;TZID=UTC:20260411T120000
DTEND;TZID=UTC:20260411T170000
DTSTAMP:20260423T171749
CREATED:20260119T211724Z
LAST-MODIFIED:20260119T211724Z
UID:8372-1775908800-1775926800@tennisinvt.com
SUMMARY:Saint Michael's Men's Tennis at Southern New Hampshire
DESCRIPTION:
URL:https://tennisinvt.com/event/saint-michaels-mens-tennis-at-southern-new-hampshire/
LOCATION:VT
END:VEVENT
BEGIN:VEVENT
DTSTART;TZID=UTC:20260411T160000
DTEND;TZID=UTC:20260411T170000
DTSTAMP:20260423T171749
CREATED:20260119T213229Z
LAST-MODIFIED:20260119T213229Z
UID:8391-1775923200-1775926800@tennisinvt.com
SUMMARY:Saint Michael's Women's Tennis at Southern New Hampshire
DESCRIPTION:
URL:https://tennisinvt.com/event/saint-michaels-womens-tennis-at-southern-new-hampshire/
LOCATION:VT
END:VEVENT
END:VCALENDAR