BEGIN:VCALENDAR
VERSION:2.0
PRODID:-//Tennis in Vermont - ECPv6.15.20//NONSGML v1.0//EN
CALSCALE:GREGORIAN
METHOD:PUBLISH
X-WR-CALNAME:Tennis in Vermont
X-ORIGINAL-URL:https://tennisinvt.com
X-WR-CALDESC:Events for Tennis in Vermont
REFRESH-INTERVAL;VALUE=DURATION:PT1H
X-Robots-Tag:noindex
X-PUBLISHED-TTL:PT1H
BEGIN:VTIMEZONE
TZID:UTC
BEGIN:STANDARD
TZOFFSETFROM:+0000
TZOFFSETTO:+0000
TZNAME:UTC
DTSTART:20240101T000000
END:STANDARD
END:VTIMEZONE
BEGIN:VEVENT
DTSTART;TZID=UTC:20260322T080000
DTEND;TZID=UTC:20260322T080000
DTSTAMP:20260424T002127
CREATED:20260208T191227Z
LAST-MODIFIED:20260208T191227Z
UID:8426-1774166400-1774166400@tennisinvt.com
SUMMARY:Team Tennis to Smash Cancer
DESCRIPTION:2026 Prouty Tennis Post-Launch Poster_8.5 x 11
URL:https://tennisinvt.com/event/team-tennis-to-smash-cancer/
LOCATION:Alexis Boss Tennis Center Dartmouth College Hanover\, NH
END:VEVENT
BEGIN:VEVENT
DTSTART;TZID=UTC:20260315T100000
DTEND;TZID=UTC:20260315T140000
DTSTAMP:20260424T002127
CREATED:20260223T192952Z
LAST-MODIFIED:20260223T192952Z
UID:8438-1773568800-1773583200@tennisinvt.com
SUMMARY:Vermont High School Tennis Workshop
DESCRIPTION:Vermont High School Coaches Workshop flyer large format PDF
URL:https://tennisinvt.com/event/vermont-high-school-tennis-workshop/
LOCATION:Edge Essex\, 4 Gauthier Drive\, Essex\, VT\, 05452\, United States
END:VEVENT
BEGIN:VEVENT
DTSTART;TZID=UTC:20260314T130000
DTEND;TZID=UTC:20260314T170000
DTSTAMP:20260424T002127
CREATED:20260119T213710Z
LAST-MODIFIED:20260119T213710Z
UID:8397-1773493200-1773507600@tennisinvt.com
SUMMARY:Lyndon Men's Tennis at Vermont State University Castleton
DESCRIPTION:
URL:https://tennisinvt.com/event/lyndon-mens-tennis-at-vermont-state-university-castleton/
LOCATION:VT
END:VEVENT
BEGIN:VEVENT
DTSTART;TZID=UTC:20260314T130000
DTEND;TZID=UTC:20260314T170000
DTSTAMP:20260424T002127
CREATED:20260119T202141Z
LAST-MODIFIED:20260119T202141Z
UID:8327-1773493200-1773507600@tennisinvt.com
SUMMARY:Middlebury Men's Tennis at Bates College
DESCRIPTION:
URL:https://tennisinvt.com/event/middlebury-mens-tennis-at-bates-college/
LOCATION:VT
END:VEVENT
BEGIN:VEVENT
DTSTART;TZID=UTC:20260314T110000
DTEND;TZID=UTC:20260314T170000
DTSTAMP:20260424T002127
CREATED:20260119T012148Z
LAST-MODIFIED:20260119T012148Z
UID:8297-1773486000-1773507600@tennisinvt.com
SUMMARY:Middlebury Women's Tennis vs Bates College
DESCRIPTION:
URL:https://tennisinvt.com/event/middlebury-womens-tennis-vs-bates-college/
LOCATION:Middlebury College\, VT\, United States
END:VEVENT
BEGIN:VEVENT
DTSTART;TZID=UTC:20260311T150000
DTEND;TZID=UTC:20260311T170000
DTSTAMP:20260424T002127
CREATED:20260119T213617Z
LAST-MODIFIED:20260119T213617Z
UID:8395-1773241200-1773248400@tennisinvt.com
SUMMARY:Lyndon Men's Tennis at Norwich University
DESCRIPTION:
URL:https://tennisinvt.com/event/lyndon-mens-tennis-at-norwich-university/
LOCATION:VT
END:VEVENT
BEGIN:VEVENT
DTSTART;TZID=UTC:20260308T140000
DTEND;TZID=UTC:20260308T170000
DTSTAMP:20260424T002127
CREATED:20260119T012103Z
LAST-MODIFIED:20260119T012103Z
UID:8295-1772978400-1772989200@tennisinvt.com
SUMMARY:Middlebury Women's Tennis at Wesleyan University
DESCRIPTION:
URL:https://tennisinvt.com/event/middlebury-womens-tennis-at-wesleyan-university/
LOCATION:VT
END:VEVENT
BEGIN:VEVENT
DTSTART;TZID=UTC:20260308T100000
DTEND;TZID=UTC:20260308T170000
DTSTAMP:20260424T002127
CREATED:20260119T202105Z
LAST-MODIFIED:20260119T202105Z
UID:8325-1772964000-1772989200@tennisinvt.com
SUMMARY:Middlebury Men's Tennis at Wesleyan University
DESCRIPTION:
URL:https://tennisinvt.com/event/middlebury-mens-tennis-at-wesleyan-university/
LOCATION:VT
END:VEVENT
BEGIN:VEVENT
DTSTART;TZID=UTC:20260307T140000
DTEND;TZID=UTC:20260307T170000
DTSTAMP:20260424T002127
CREATED:20260119T211420Z
LAST-MODIFIED:20260119T211420Z
UID:8366-1772892000-1772902800@tennisinvt.com
SUMMARY:Saint Michael's Men's Tennis vs Endicott
DESCRIPTION:
URL:https://tennisinvt.com/event/saint-michaels-mens-tennis-vs-endicott/
LOCATION:Saint Michael’s College – Tarrant Recreation Center
END:VEVENT
BEGIN:VEVENT
DTSTART;TZID=UTC:20260307T140000
DTEND;TZID=UTC:20260307T170000
DTSTAMP:20260424T002127
CREATED:20260119T012020Z
LAST-MODIFIED:20260119T012020Z
UID:8293-1772892000-1772902800@tennisinvt.com
SUMMARY:Middlebury Women's Tennis at Connecticut College
DESCRIPTION:
URL:https://tennisinvt.com/event/middlebury-womens-tennis-at-connecticut-college/
LOCATION:VT
END:VEVENT
BEGIN:VEVENT
DTSTART;TZID=UTC:20260307T100000
DTEND;TZID=UTC:20260307T170000
DTSTAMP:20260424T002127
CREATED:20260119T202007Z
LAST-MODIFIED:20260119T202007Z
UID:8323-1772877600-1772902800@tennisinvt.com
SUMMARY:Middlebury Men's Tennis at Connecticut College
DESCRIPTION:
URL:https://tennisinvt.com/event/middlebury-mens-tennis-at-connecticut-college/
LOCATION:VT
END:VEVENT
BEGIN:VEVENT
DTSTART;VALUE=DATE:20260307
DTEND;VALUE=DATE:20260309
DTSTAMP:20260424T002127
CREATED:20260208T201120Z
LAST-MODIFIED:20260208T201120Z
UID:8435-1772841600-1773014399@tennisinvt.com
SUMMARY:Level 6: Essex Edge BG 18s Singles Draw
DESCRIPTION:
URL:https://tennisinvt.com/event/level-6-essex-edge-bg-18s-singles-draw/
LOCATION:Edge Essex\, 4 Gauthier Drive\, Essex\, VT\, 05452\, United States
END:VEVENT
BEGIN:VEVENT
DTSTART;TZID=UTC:20260228T160000
DTEND;TZID=UTC:20260228T170000
DTSTAMP:20260424T002127
CREATED:20260119T211230Z
LAST-MODIFIED:20260119T211328Z
UID:8364-1772294400-1772298000@tennisinvt.com
SUMMARY:Saint Michael's Men's Tennis vs Daemen
DESCRIPTION:
URL:https://tennisinvt.com/event/saint-michaels-mens-tennis-vs-daemen/
LOCATION:Saint Michael’s College – Tarrant Recreation Center
END:VEVENT
BEGIN:VEVENT
DTSTART;TZID=UTC:20260228T140000
DTEND;TZID=UTC:20260228T170000
DTSTAMP:20260424T002127
CREATED:20260119T201855Z
LAST-MODIFIED:20260119T201855Z
UID:8321-1772287200-1772298000@tennisinvt.com
SUMMARY:Middlebury Men's Tennis at Rensselaer Polytechnic Institute
DESCRIPTION:
URL:https://tennisinvt.com/event/middlebury-mens-tennis-at-rensselaer-polytechnic-institute/
LOCATION:VT
END:VEVENT
BEGIN:VEVENT
DTSTART;TZID=UTC:20260228T120000
DTEND;TZID=UTC:20260228T170000
DTSTAMP:20260424T002127
CREATED:20260119T212123Z
LAST-MODIFIED:20260119T212123Z
UID:8380-1772280000-1772298000@tennisinvt.com
SUMMARY:Saint Michael's Women's Tennis vs Daemen
DESCRIPTION:
URL:https://tennisinvt.com/event/saint-michaels-womens-tennis-vs-daemen/
LOCATION:Saint Michael’s College – Tarrant Recreation Center
END:VEVENT
BEGIN:VEVENT
DTSTART;TZID=UTC:20260228T080000
DTEND;TZID=UTC:20260228T170000
DTSTAMP:20260424T002127
CREATED:20260208T201009Z
LAST-MODIFIED:20260208T201009Z
UID:8433-1772265600-1772298000@tennisinvt.com
SUMMARY:Level 7: Essex Edge BG 14s Singles
DESCRIPTION:
URL:https://tennisinvt.com/event/level-7-essex-edge-bg-14s-singles/
LOCATION:Edge Essex\, 4 Gauthier Drive\, Essex\, VT\, 05452\, United States
END:VEVENT
BEGIN:VEVENT
DTSTART;TZID=UTC:20260228T080000
DTEND;TZID=UTC:20260228T170000
DTSTAMP:20260424T002127
CREATED:20260208T200842Z
LAST-MODIFIED:20260208T200842Z
UID:8431-1772265600-1772298000@tennisinvt.com
SUMMARY:USTA Junior Circuit: Essex Edge u12 Green Ball Co-ed
DESCRIPTION:
URL:https://tennisinvt.com/event/usta-junior-circuit-essex-edge-u12-green-ball-co-ed/
LOCATION:Edge Essex\, 4 Gauthier Drive\, Essex\, VT\, 05452\, United States
END:VEVENT
BEGIN:VEVENT
DTSTART;TZID=UTC:20260227T143000
DTEND;TZID=UTC:20260227T170000
DTSTAMP:20260424T002127
CREATED:20260119T212013Z
LAST-MODIFIED:20260119T212013Z
UID:8378-1772202600-1772211600@tennisinvt.com
SUMMARY:Saint Michael's Women's Tennis at Union (NY)
DESCRIPTION:
URL:https://tennisinvt.com/event/saint-michaels-womens-tennis-at-union-ny/
LOCATION:VT
END:VEVENT
BEGIN:VEVENT
DTSTART;TZID=UTC:20260227T143000
DTEND;TZID=UTC:20260227T170000
DTSTAMP:20260424T002127
CREATED:20260119T210705Z
LAST-MODIFIED:20260119T210705Z
UID:8362-1772202600-1772211600@tennisinvt.com
SUMMARY:Saint Michael's Men's Tennis at Union (NY)
DESCRIPTION:
URL:https://tennisinvt.com/event/saint-michaels-mens-tennis-at-union-ny/
LOCATION:VT
END:VEVENT
BEGIN:VEVENT
DTSTART;VALUE=DATE:20260227
DTEND;VALUE=DATE:20260302
DTSTAMP:20260424T002127
CREATED:20260119T011919Z
LAST-MODIFIED:20260119T011919Z
UID:8291-1772150400-1772409599@tennisinvt.com
SUMMARY:Middlebury Women's Tennis ITA Indoor Nationals
DESCRIPTION:
URL:https://tennisinvt.com/event/middlebury-womens-tennis-ita-indoor-nationals/
LOCATION:VT
END:VEVENT
BEGIN:VEVENT
DTSTART;TZID=UTC:20260221T090000
DTEND;TZID=UTC:20260221T170000
DTSTAMP:20260424T002127
CREATED:20260119T212342Z
LAST-MODIFIED:20260119T212342Z
UID:8382-1771664400-1771693200@tennisinvt.com
SUMMARY:Saint Michael's Women's Tennis vs Adelphi
DESCRIPTION:
URL:https://tennisinvt.com/event/saint-michaels-womens-tennis-vs-adelphi/
LOCATION:Saint Michael’s College – Tarrant Recreation Center
END:VEVENT
BEGIN:VEVENT
DTSTART;TZID=UTC:20260221T090000
DTEND;TZID=UTC:20260221T170000
DTSTAMP:20260424T002127
CREATED:20260119T210601Z
LAST-MODIFIED:20260119T210601Z
UID:8359-1771664400-1771693200@tennisinvt.com
SUMMARY:Saint Michael's Men's Tennis vs Adelphi
DESCRIPTION:
URL:https://tennisinvt.com/event/saint-michaels-mens-tennis-vs-adelphi/
LOCATION:Saint Michael’s College – Tarrant Recreation Center
END:VEVENT
BEGIN:VEVENT
DTSTART;TZID=UTC:20260214T110000
DTEND;TZID=UTC:20260214T170000
DTSTAMP:20260424T002127
CREATED:20260119T210445Z
LAST-MODIFIED:20260119T210445Z
UID:8357-1771066800-1771088400@tennisinvt.com
SUMMARY:Saint Michael's Men's Tennis vs SUNY Oneonta at Saint Lawrence University
DESCRIPTION:
URL:https://tennisinvt.com/event/saint-michaels-mens-tennis-vs-suny-oneonta-at-saint-lawrence-university/
LOCATION:VT
END:VEVENT
BEGIN:VEVENT
DTSTART;TZID=UTC:20260213T140000
DTEND;TZID=UTC:20260213T170000
DTSTAMP:20260424T002127
CREATED:20260119T210127Z
LAST-MODIFIED:20260119T210127Z
UID:8355-1770991200-1771002000@tennisinvt.com
SUMMARY:Saint Michael's Men's Tennis at Saint Lawrence
DESCRIPTION:
URL:https://tennisinvt.com/event/saint-michaels-mens-tennis-at-saint-lawrence/
LOCATION:VT
END:VEVENT
BEGIN:VEVENT
DTSTART;VALUE=DATE:20260213
DTEND;VALUE=DATE:20260215
DTSTAMP:20260424T002127
CREATED:20250720T141528Z
LAST-MODIFIED:20250720T141528Z
UID:8126-1770940800-1771113599@tennisinvt.com
SUMMARY:Saint Michael's Women's Tennis at Saint Lawrence
DESCRIPTION:The Purple Knights will travel to Canton\, New York\, to take on Saint Lawrence and SUNY Oneonta. They will face Saint Lawrence on Friday and return on Saturday to play SUNY Oneonta. The start time for both matches is still to be determined.
URL:https://tennisinvt.com/event/saint-michaels-womens-tennis-at-saint-lawrence/
LOCATION:Saint Lawrence University\, Canton\, NY\, United States
END:VEVENT
BEGIN:VEVENT
DTSTART;VALUE=DATE:20260207
DTEND;VALUE=DATE:20260208
DTSTAMP:20260424T002127
CREATED:20250720T140820Z
LAST-MODIFIED:20250720T140820Z
UID:8123-1770422400-1770508799@tennisinvt.com
SUMMARY:Saint Michael's Women's Tennis at Merrimack
DESCRIPTION:
URL:https://tennisinvt.com/event/saint-michaels-womens-tennis-at-merrimack/
LOCATION:Merrimack
END:VEVENT
BEGIN:VEVENT
DTSTART;VALUE=DATE:20260206
DTEND;VALUE=DATE:20260209
DTSTAMP:20260424T002127
CREATED:20260120T145110Z
LAST-MODIFIED:20260120T145110Z
UID:8414-1770336000-1770595199@tennisinvt.com
SUMMARY:Jericho Café & Tavern Tennis Championship
DESCRIPTION:Men’s Doubles – Open\, 4.0\, 3.5\, and 3.0 \nWomen’s Doubles – Open\, 4.0\, 3.5 and 3.0 \n  \nDeadline to enter: Sunday\, February 1st by 9PM \nFees: Singles ($40 per player) and Doubles ($25 per player)
URL:https://tennisinvt.com/event/jericho-cafe-tavern-tennis-championship/
LOCATION:VT
END:VEVENT
BEGIN:VEVENT
DTSTART;VALUE=DATE:20260130
DTEND;VALUE=DATE:20260202
DTSTAMP:20260424T002127
CREATED:20260120T144840Z
LAST-MODIFIED:20260120T144840Z
UID:8411-1769731200-1769990399@tennisinvt.com
SUMMARY:Jericho Café & Tavern Tennis Championships (JCAT)
DESCRIPTION:Men’s Singles Division – Open\, 4.0\, 3.5\, 3.0 \nWomen’s Singles Division – Open\, 4.0\, 3.5\, 3.0 \nMixed Doubles – A division (4.0 and up)\, B division (3.5 and below) \n  \nDeadline to enter: Sunday\, January 25th by 9PM
URL:https://tennisinvt.com/event/jericho-cafe-tavern-tennis-championships-jcat/
LOCATION:VT
END:VEVENT
BEGIN:VEVENT
DTSTART;VALUE=DATE:20260103
DTEND;VALUE=DATE:20260104
DTSTAMP:20260424T002127
CREATED:20251223T214041Z
LAST-MODIFIED:20251223T214041Z
UID:8284-1767398400-1767484799@tennisinvt.com
SUMMARY:Level 7: The Edge BG 12s & 14s Singles
DESCRIPTION:
URL:https://tennisinvt.com/event/level-7-the-edge-bg-12s-14s-singles/
LOCATION:Edge Essex\, 4 Gauthier Drive\, Essex\, VT\, 05452\, United States
END:VEVENT
BEGIN:VEVENT
DTSTART;VALUE=DATE:20251025
DTEND;VALUE=DATE:20251027
DTSTAMP:20260424T002127
CREATED:20251008T152456Z
LAST-MODIFIED:20251008T152456Z
UID:8226-1761350400-1761523199@tennisinvt.com
SUMMARY:All Comers Wheelchair Event at The Essex Edge
DESCRIPTION:
URL:https://tennisinvt.com/event/all-comers-wheelchair-event-at-the-essex-edge/
LOCATION:Edge Essex\, 4 Gauthier Drive\, Essex\, VT\, 05452\, United States
END:VEVENT
END:VCALENDAR