BEGIN:VCALENDAR
VERSION:2.0
PRODID:-//Tennis in Vermont - ECPv6.15.20//NONSGML v1.0//EN
CALSCALE:GREGORIAN
METHOD:PUBLISH
X-WR-CALNAME:Tennis in Vermont
X-ORIGINAL-URL:https://tennisinvt.com
X-WR-CALDESC:Events for Tennis in Vermont
REFRESH-INTERVAL;VALUE=DURATION:PT1H
X-Robots-Tag:noindex
X-PUBLISHED-TTL:PT1H
BEGIN:VTIMEZONE
TZID:UTC
BEGIN:STANDARD
TZOFFSETFROM:+0000
TZOFFSETTO:+0000
TZNAME:UTC
DTSTART:20250101T000000
END:STANDARD
END:VTIMEZONE
BEGIN:VEVENT
DTSTART;TZID=UTC:20260412T120000
DTEND;TZID=UTC:20260412T170000
DTSTAMP:20260423T214136
CREATED:20260119T202949Z
LAST-MODIFIED:20260119T202949Z
UID:8345-1775995200-1776013200@tennisinvt.com
SUMMARY:Middlebury Men's Tennis vs Tufts University
DESCRIPTION:
URL:https://tennisinvt.com/event/middlebury-mens-tennis-vs-tufts-university/
LOCATION:VT
END:VEVENT
BEGIN:VEVENT
DTSTART;TZID=UTC:20260412T100000
DTEND;TZID=UTC:20260412T170000
DTSTAMP:20260423T214136
CREATED:20260119T012803Z
LAST-MODIFIED:20260119T012803Z
UID:8311-1775988000-1776013200@tennisinvt.com
SUMMARY:Middlebury Women's Tennis at Tufts University
DESCRIPTION:
URL:https://tennisinvt.com/event/middlebury-womens-tennis-at-tufts-university/
LOCATION:VT
END:VEVENT
BEGIN:VEVENT
DTSTART;TZID=UTC:20260411T160000
DTEND;TZID=UTC:20260411T170000
DTSTAMP:20260423T214136
CREATED:20260119T213229Z
LAST-MODIFIED:20260119T213229Z
UID:8391-1775923200-1775926800@tennisinvt.com
SUMMARY:Saint Michael's Women's Tennis at Southern New Hampshire
DESCRIPTION:
URL:https://tennisinvt.com/event/saint-michaels-womens-tennis-at-southern-new-hampshire/
LOCATION:VT
END:VEVENT
BEGIN:VEVENT
DTSTART;TZID=UTC:20260411T120000
DTEND;TZID=UTC:20260411T170000
DTSTAMP:20260423T214136
CREATED:20260119T211724Z
LAST-MODIFIED:20260119T211724Z
UID:8372-1775908800-1775926800@tennisinvt.com
SUMMARY:Saint Michael's Men's Tennis at Southern New Hampshire
DESCRIPTION:
URL:https://tennisinvt.com/event/saint-michaels-mens-tennis-at-southern-new-hampshire/
LOCATION:VT
END:VEVENT
BEGIN:VEVENT
DTSTART;TZID=UTC:20260411T120000
DTEND;TZID=UTC:20260411T170000
DTSTAMP:20260423T214136
CREATED:20260119T202837Z
LAST-MODIFIED:20260119T202837Z
UID:8343-1775908800-1775926800@tennisinvt.com
SUMMARY:Middleburry Men's Tennis at Trinity College (Conn.)
DESCRIPTION:
URL:https://tennisinvt.com/event/middleburry-mens-tennis-at-trinity-college-conn/
LOCATION:VT
END:VEVENT
BEGIN:VEVENT
DTSTART;TZID=UTC:20260411T100000
DTEND;TZID=UTC:20260411T170000
DTSTAMP:20260423T214136
CREATED:20260119T012717Z
LAST-MODIFIED:20260119T012717Z
UID:8309-1775901600-1775926800@tennisinvt.com
SUMMARY:Middlebury Women's Tennis vs Trinity College (Conn.)
DESCRIPTION:
URL:https://tennisinvt.com/event/middlebury-womens-tennis-vs-trinity-college-conn/
LOCATION:Middlebury College\, VT\, United States
END:VEVENT
BEGIN:VEVENT
DTSTART;VALUE=DATE:20260411
DTEND;VALUE=DATE:20260412
DTSTAMP:20260423T214136
CREATED:20260119T214049Z
LAST-MODIFIED:20260119T214049Z
UID:8405-1775865600-1775951999@tennisinvt.com
SUMMARY:Lyndon Men's Tennis vs Lesley University
DESCRIPTION:
URL:https://tennisinvt.com/event/lyndon-mens-tennis-vs-lesley-university/
LOCATION:VTSU Lyndon\, Lyndon\, Vermont
END:VEVENT
BEGIN:VEVENT
DTSTART;TZID=UTC:20260408T150000
DTEND;TZID=UTC:20260408T170000
DTSTAMP:20260423T214136
CREATED:20260119T213922Z
LAST-MODIFIED:20260119T213922Z
UID:8403-1775660400-1775667600@tennisinvt.com
SUMMARY:Lyndon Men's Tennis at Norwich University
DESCRIPTION:
URL:https://tennisinvt.com/event/lyndon-mens-tennis-at-norwich-university-2/
LOCATION:VT
END:VEVENT
BEGIN:VEVENT
DTSTART;TZID=UTC:20260407T140000
DTEND;TZID=UTC:20260407T170000
DTSTAMP:20260423T214136
CREATED:20260119T213125Z
LAST-MODIFIED:20260119T213125Z
UID:8389-1775570400-1775581200@tennisinvt.com
SUMMARY:Saint Michael's Women's Tennis at Franklin Pierce
DESCRIPTION:
URL:https://tennisinvt.com/event/saint-michaels-womens-tennis-at-franklin-pierce/
LOCATION:VT
END:VEVENT
BEGIN:VEVENT
DTSTART;TZID=UTC:20260404T130000
DTEND;TZID=UTC:20260404T170000
DTSTAMP:20260423T214136
CREATED:20260119T012634Z
LAST-MODIFIED:20260119T012634Z
UID:8307-1775307600-1775322000@tennisinvt.com
SUMMARY:Middlebury Women's Tennis at Williams College
DESCRIPTION:
URL:https://tennisinvt.com/event/middlebury-womens-tennis-at-williams-college/
LOCATION:VT
END:VEVENT
BEGIN:VEVENT
DTSTART;TZID=UTC:20260404T120000
DTEND;TZID=UTC:20260404T170000
DTSTAMP:20260423T214136
CREATED:20260119T202737Z
LAST-MODIFIED:20260119T202737Z
UID:8341-1775304000-1775322000@tennisinvt.com
SUMMARY:Middlebury Men's Tennis vs Williams College
DESCRIPTION:
URL:https://tennisinvt.com/event/middlebury-mens-tennis-vs-williams-college/
LOCATION:Middlebury College\, VT\, United States
END:VEVENT
BEGIN:VEVENT
DTSTART;TZID=UTC:20260401T120000
DTEND;TZID=UTC:20260401T170000
DTSTAMP:20260423T214136
CREATED:20260119T213012Z
LAST-MODIFIED:20260119T213012Z
UID:8387-1775044800-1775062800@tennisinvt.com
SUMMARY:Saint Michael's Women's Tennis vs Assumption
DESCRIPTION:
URL:https://tennisinvt.com/event/saint-michaels-womens-tennis-vs-assumption/
LOCATION:Saint Michael’s College – Tarrant Recreation Center
END:VEVENT
BEGIN:VEVENT
DTSTART;TZID=UTC:20260401T120000
DTEND;TZID=UTC:20260401T170000
DTSTAMP:20260423T214136
CREATED:20260119T211612Z
LAST-MODIFIED:20260119T211612Z
UID:8370-1775044800-1775062800@tennisinvt.com
SUMMARY:Saint Michael's College Men's Tennis vs Assumption
DESCRIPTION:
URL:https://tennisinvt.com/event/saint-michaels-college-mens-tennis-vs-assumption/
LOCATION:Saint Michael’s College – Tarrant Recreation Center
END:VEVENT
BEGIN:VEVENT
DTSTART;TZID=UTC:20260328T150000
DTEND;TZID=UTC:20260328T170000
DTSTAMP:20260423T214136
CREATED:20260119T211506Z
LAST-MODIFIED:20260119T211522Z
UID:8368-1774710000-1774717200@tennisinvt.com
SUMMARY:Saint Michael's Men's Tennis vs Bentley
DESCRIPTION:
URL:https://tennisinvt.com/event/saint-michaels-mens-tennis-vs-bentley-2/
LOCATION:Saint Michael’s College – Tarrant Recreation Center
END:VEVENT
BEGIN:VEVENT
DTSTART;TZID=UTC:20260328T130000
DTEND;TZID=UTC:20260328T170000
DTSTAMP:20260423T214136
CREATED:20260119T213839Z
LAST-MODIFIED:20260119T213839Z
UID:8401-1774702800-1774717200@tennisinvt.com
SUMMARY:Lyndon Men's Tennis at Thomas College
DESCRIPTION:
URL:https://tennisinvt.com/event/lyndon-mens-tennis-at-thomas-college/
LOCATION:VT
END:VEVENT
BEGIN:VEVENT
DTSTART;TZID=UTC:20260328T110000
DTEND;TZID=UTC:20260328T140000
DTSTAMP:20260423T214136
CREATED:20260119T202648Z
LAST-MODIFIED:20260119T202648Z
UID:8339-1774695600-1774706400@tennisinvt.com
SUMMARY:Middlebury Men's Tennis at Claremont-Mudd-Scripps Colleges
DESCRIPTION:
URL:https://tennisinvt.com/event/middlebury-mens-tennis-at-claremont-mudd-scripps-colleges/
LOCATION:VT
END:VEVENT
BEGIN:VEVENT
DTSTART;VALUE=DATE:20260328
DTEND;VALUE=DATE:20260329
DTSTAMP:20260423T214136
CREATED:20250720T141717Z
LAST-MODIFIED:20260119T212808Z
UID:8130-1774656000-1774742399@tennisinvt.com
SUMMARY:Saint Michael's Women's Tennis vs Bentley
DESCRIPTION:
URL:https://tennisinvt.com/event/saint-michaels-womens-tennis-at-bentley/
LOCATION:Saint Michael’s College – Tarrant Recreation Center
END:VEVENT
BEGIN:VEVENT
DTSTART;TZID=UTC:20260327T123000
DTEND;TZID=UTC:20260327T153000
DTSTAMP:20260423T214136
CREATED:20260119T012549Z
LAST-MODIFIED:20260119T012549Z
UID:8305-1774614600-1774625400@tennisinvt.com
SUMMARY:Middlebury Women's Tennisat Claremont-Mudd-Scripps Colleges
DESCRIPTION:
URL:https://tennisinvt.com/event/middlebury-womens-tennisat-claremont-mudd-scripps-colleges/
LOCATION:VT
END:VEVENT
BEGIN:VEVENT
DTSTART;TZID=UTC:20260326T160000
DTEND;TZID=UTC:20260326T190000
DTSTAMP:20260423T214136
CREATED:20260119T202549Z
LAST-MODIFIED:20260119T202549Z
UID:8337-1774540800-1774551600@tennisinvt.com
SUMMARY:Middlebury Men's Tennis at University of Redlands
DESCRIPTION:
URL:https://tennisinvt.com/event/middlebury-mens-tennis-at-university-of-redlands/
LOCATION:VT
END:VEVENT
BEGIN:VEVENT
DTSTART;TZID=UTC:20260325T080000
DTEND;TZID=UTC:20260325T170000
DTSTAMP:20260423T214136
CREATED:20260119T202501Z
LAST-MODIFIED:20260119T202501Z
UID:8335-1774425600-1774458000@tennisinvt.com
SUMMARY:Middlebury Men's Tennis at Pomona-Pitzer
DESCRIPTION:
URL:https://tennisinvt.com/event/middlebury-mens-tennis-at-pomona-pitzer/
LOCATION:VT
END:VEVENT
BEGIN:VEVENT
DTSTART;VALUE=DATE:20260325
DTEND;VALUE=DATE:20260326
DTSTAMP:20260423T214136
CREATED:20260119T012456Z
LAST-MODIFIED:20260119T012456Z
UID:8303-1774396800-1774483199@tennisinvt.com
SUMMARY:Middlebury Women's Tennis at Pomona-Pitzer
DESCRIPTION:
URL:https://tennisinvt.com/event/middlebury-womens-tennis-at-pomona-pitzer/
LOCATION:VT
END:VEVENT
BEGIN:VEVENT
DTSTART;TZID=UTC:20260323T160000
DTEND;TZID=UTC:20260323T190000
DTSTAMP:20260423T214136
CREATED:20260119T202414Z
LAST-MODIFIED:20260119T202414Z
UID:8333-1774281600-1774292400@tennisinvt.com
SUMMARY:Middlebury Men's Tennis at Whittier College
DESCRIPTION:
URL:https://tennisinvt.com/event/middlebury-mens-tennis-at-whittier-college/
LOCATION:VT
END:VEVENT
BEGIN:VEVENT
DTSTART;TZID=UTC:20260323T153000
DTEND;TZID=UTC:20260323T183000
DTSTAMP:20260423T214136
CREATED:20260119T012414Z
LAST-MODIFIED:20260119T012414Z
UID:8301-1774279800-1774290600@tennisinvt.com
SUMMARY:Middlebury Women's Tennis at Concordia University Irvine
DESCRIPTION:
URL:https://tennisinvt.com/event/middlebury-womens-tennis-at-concordia-university-irvine/
LOCATION:VT
END:VEVENT
BEGIN:VEVENT
DTSTART;TZID=UTC:20260323T100000
DTEND;TZID=UTC:20260323T130000
DTSTAMP:20260423T214136
CREATED:20260119T012248Z
LAST-MODIFIED:20260119T012248Z
UID:8299-1774260000-1774270800@tennisinvt.com
SUMMARY:Middlebury Women's Tennis at Chapman University
DESCRIPTION:
URL:https://tennisinvt.com/event/middlebury-womens-tennis-at-chapman-university/
LOCATION:VT
END:VEVENT
BEGIN:VEVENT
DTSTART;TZID=UTC:20260322T160000
DTEND;TZID=UTC:20260322T170000
DTSTAMP:20260423T214136
CREATED:20260119T202309Z
LAST-MODIFIED:20260119T202309Z
UID:8331-1774195200-1774198800@tennisinvt.com
SUMMARY:Middlebury Men's Tennis vs Linfield University
DESCRIPTION:
URL:https://tennisinvt.com/event/middlebury-mens-tennis-vs-linfield-university/
LOCATION:VT
END:VEVENT
BEGIN:VEVENT
DTSTART;TZID=UTC:20260322T100000
DTEND;TZID=UTC:20260322T170000
DTSTAMP:20260423T214136
CREATED:20260119T202221Z
LAST-MODIFIED:20260119T202221Z
UID:8329-1774173600-1774198800@tennisinvt.com
SUMMARY:Middlebury Men's Tennis at Chapman University
DESCRIPTION:
URL:https://tennisinvt.com/event/middlebury-mens-tennis-at-chapman-university/
LOCATION:VT
END:VEVENT
BEGIN:VEVENT
DTSTART;TZID=UTC:20260322T080000
DTEND;TZID=UTC:20260322T080000
DTSTAMP:20260423T214136
CREATED:20260208T191227Z
LAST-MODIFIED:20260208T191227Z
UID:8426-1774166400-1774166400@tennisinvt.com
SUMMARY:Team Tennis to Smash Cancer
DESCRIPTION:2026 Prouty Tennis Post-Launch Poster_8.5 x 11
URL:https://tennisinvt.com/event/team-tennis-to-smash-cancer/
LOCATION:Alexis Boss Tennis Center Dartmouth College Hanover\, NH
END:VEVENT
BEGIN:VEVENT
DTSTART;TZID=UTC:20260321T110000
DTEND;TZID=UTC:20260321T170000
DTSTAMP:20260423T214136
CREATED:20260119T213756Z
LAST-MODIFIED:20260119T213756Z
UID:8399-1774090800-1774112400@tennisinvt.com
SUMMARY:Lyndon Men's Tennis at State University of New York at Delhi (DH)
DESCRIPTION:
URL:https://tennisinvt.com/event/lyndon-mens-tennis-at-state-university-of-new-york-at-delhi-dh/
LOCATION:VT
END:VEVENT
BEGIN:VEVENT
DTSTART;TZID=UTC:20260315T100000
DTEND;TZID=UTC:20260315T140000
DTSTAMP:20260423T214136
CREATED:20260223T192952Z
LAST-MODIFIED:20260223T192952Z
UID:8438-1773568800-1773583200@tennisinvt.com
SUMMARY:Vermont High School Tennis Workshop
DESCRIPTION:Vermont High School Coaches Workshop flyer large format PDF
URL:https://tennisinvt.com/event/vermont-high-school-tennis-workshop/
LOCATION:Edge Essex\, 4 Gauthier Drive\, Essex\, VT\, 05452\, United States
END:VEVENT
BEGIN:VEVENT
DTSTART;TZID=UTC:20260314T130000
DTEND;TZID=UTC:20260314T170000
DTSTAMP:20260423T214136
CREATED:20260119T213710Z
LAST-MODIFIED:20260119T213710Z
UID:8397-1773493200-1773507600@tennisinvt.com
SUMMARY:Lyndon Men's Tennis at Vermont State University Castleton
DESCRIPTION:
URL:https://tennisinvt.com/event/lyndon-mens-tennis-at-vermont-state-university-castleton/
LOCATION:VT
END:VEVENT
END:VCALENDAR