BEGIN:VCALENDAR
VERSION:2.0
PRODID:-//Tennis in Vermont - ECPv6.15.20//NONSGML v1.0//EN
CALSCALE:GREGORIAN
METHOD:PUBLISH
X-ORIGINAL-URL:https://tennisinvt.com
X-WR-CALDESC:Events for Tennis in Vermont
REFRESH-INTERVAL;VALUE=DURATION:PT1H
X-Robots-Tag:noindex
X-PUBLISHED-TTL:PT1H
BEGIN:VTIMEZONE
TZID:UTC
BEGIN:STANDARD
TZOFFSETFROM:+0000
TZOFFSETTO:+0000
TZNAME:UTC
DTSTART:20250101T000000
END:STANDARD
END:VTIMEZONE
BEGIN:VEVENT
DTSTART;VALUE=DATE:20260418
DTEND;VALUE=DATE:20260419
DTSTAMP:20260423T183344
CREATED:20260119T214251Z
LAST-MODIFIED:20260119T214251Z
UID:8409-1776470400-1776556799@tennisinvt.com
SUMMARY:Lyndon Men's Tennis vs Vermont State University Johnson (DH)
DESCRIPTION:
URL:https://tennisinvt.com/event/lyndon-mens-tennis-vs-vermont-state-university-johnson-dh/
LOCATION:VTSU Lyndon\, Lyndon\, Vermont
END:VEVENT
BEGIN:VEVENT
DTSTART;TZID=UTC:20260418T090000
DTEND;TZID=UTC:20260418T170000
DTSTAMP:20260423T183344
CREATED:20260119T211801Z
LAST-MODIFIED:20260119T211801Z
UID:8374-1776502800-1776531600@tennisinvt.com
SUMMARY:Saint Michael's Men's Tennis at Adelphi University
DESCRIPTION:
URL:https://tennisinvt.com/event/saint-michaels-mens-tennis-at-adelphi-university/
LOCATION:VT
END:VEVENT
BEGIN:VEVENT
DTSTART;TZID=UTC:20260418T090000
DTEND;TZID=UTC:20260418T170000
DTSTAMP:20260423T183344
CREATED:20260119T213332Z
LAST-MODIFIED:20260119T213332Z
UID:8393-1776502800-1776531600@tennisinvt.com
SUMMARY:Saint Michael's Women's Tennis at Adelphi University
DESCRIPTION:
URL:https://tennisinvt.com/event/saint-michaels-womens-tennis-at-adelphi-university/
LOCATION:VT
END:VEVENT
BEGIN:VEVENT
DTSTART;TZID=UTC:20260418T120000
DTEND;TZID=UTC:20260418T170000
DTSTAMP:20260423T183344
CREATED:20260119T012858Z
LAST-MODIFIED:20260119T012858Z
UID:8313-1776513600-1776531600@tennisinvt.com
SUMMARY:Middlebury Women's Tennis vs Amherst College
DESCRIPTION:
URL:https://tennisinvt.com/event/middlebury-womens-tennis-vs-amherst-college/
LOCATION:VT
END:VEVENT
BEGIN:VEVENT
DTSTART;TZID=UTC:20260418T120000
DTEND;TZID=UTC:20260418T170000
DTSTAMP:20260423T183344
CREATED:20260119T203025Z
LAST-MODIFIED:20260119T203025Z
UID:8347-1776513600-1776531600@tennisinvt.com
SUMMARY:Middlebury Men's Tennis at Amherst College
DESCRIPTION:
URL:https://tennisinvt.com/event/middlebury-mens-tennis-at-amherst-college/
LOCATION:VT
END:VEVENT
BEGIN:VEVENT
DTSTART;TZID=UTC:20260419T100000
DTEND;TZID=UTC:20260419T170000
DTSTAMP:20260423T183344
CREATED:20260119T012954Z
LAST-MODIFIED:20260119T012954Z
UID:8315-1776592800-1776618000@tennisinvt.com
SUMMARY:Middlebury Women's Tennis vs Hamiliton College
DESCRIPTION:
URL:https://tennisinvt.com/event/middlebury-womens-tennis-vs-hamiliton-college/
LOCATION:VT
END:VEVENT
BEGIN:VEVENT
DTSTART;TZID=UTC:20260419T120000
DTEND;TZID=UTC:20260419T170000
DTSTAMP:20260423T183344
CREATED:20260119T203123Z
LAST-MODIFIED:20260119T203123Z
UID:8349-1776600000-1776618000@tennisinvt.com
SUMMARY:Middlebury Men's Tennis at Hamilton College
DESCRIPTION:
URL:https://tennisinvt.com/event/middlebury-mens-tennis-at-hamilton-college/
LOCATION:VT
END:VEVENT
BEGIN:VEVENT
DTSTART;TZID=UTC:20260421T140000
DTEND;TZID=UTC:20260421T170000
DTSTAMP:20260423T183344
CREATED:20260119T211848Z
LAST-MODIFIED:20260119T211848Z
UID:8376-1776780000-1776790800@tennisinvt.com
SUMMARY:Saint Michael's Men's Tennis at Franklin Pierce University
DESCRIPTION:
URL:https://tennisinvt.com/event/saint-michaels-mens-tennis-at-franklin-pierce-university/
LOCATION:VT
END:VEVENT
BEGIN:VEVENT
DTSTART;TZID=UTC:20260425T100000
DTEND;TZID=UTC:20260425T170000
DTSTAMP:20260423T183344
CREATED:20260119T013040Z
LAST-MODIFIED:20260119T013040Z
UID:8317-1777111200-1777136400@tennisinvt.com
SUMMARY:Middlebury Women's Tennis at Colby College
DESCRIPTION:
URL:https://tennisinvt.com/event/middlebury-womens-tennis-at-colby-college/
LOCATION:VT
END:VEVENT
BEGIN:VEVENT
DTSTART;TZID=UTC:20260425T120000
DTEND;TZID=UTC:20260425T170000
DTSTAMP:20260423T183344
CREATED:20260119T203228Z
LAST-MODIFIED:20260119T203228Z
UID:8351-1777118400-1777136400@tennisinvt.com
SUMMARY:Middlebury Men's Tennis vs Colby College
DESCRIPTION:
URL:https://tennisinvt.com/event/middlebury-mens-tennis-vs-colby-college/
LOCATION:Middlebury College\, VT\, United States
END:VEVENT
BEGIN:VEVENT
DTSTART;TZID=UTC:20260426T100000
DTEND;TZID=UTC:20260426T170000
DTSTAMP:20260423T183344
CREATED:20260119T013127Z
LAST-MODIFIED:20260119T013127Z
UID:8319-1777197600-1777222800@tennisinvt.com
SUMMARY:Middlebury Women's Tennis at Bowdoin College
DESCRIPTION:
URL:https://tennisinvt.com/event/middlebury-womens-tennis-at-bowdoin-college/
LOCATION:VT
END:VEVENT
BEGIN:VEVENT
DTSTART;TZID=UTC:20260426T120000
DTEND;TZID=UTC:20260426T170000
DTSTAMP:20260423T183344
CREATED:20260119T203310Z
LAST-MODIFIED:20260119T203310Z
UID:8353-1777204800-1777222800@tennisinvt.com
SUMMARY:Middleburry Men's Tennis vs Bowdoin College
DESCRIPTION:
URL:https://tennisinvt.com/event/middleburry-mens-tennis-vs-bowdoin-college/
LOCATION:Middlebury College\, VT\, United States
END:VEVENT
END:VCALENDAR