BEGIN:VCALENDAR
VERSION:2.0
PRODID:-//Tennis in Vermont - ECPv6.15.20//NONSGML v1.0//EN
CALSCALE:GREGORIAN
METHOD:PUBLISH
X-WR-CALNAME:Tennis in Vermont
X-ORIGINAL-URL:https://tennisinvt.com
X-WR-CALDESC:Events for Tennis in Vermont
REFRESH-INTERVAL;VALUE=DURATION:PT1H
X-Robots-Tag:noindex
X-PUBLISHED-TTL:PT1H
BEGIN:VTIMEZONE
TZID:UTC
BEGIN:STANDARD
TZOFFSETFROM:+0000
TZOFFSETTO:+0000
TZNAME:UTC
DTSTART:20190101T000000
END:STANDARD
END:VTIMEZONE
BEGIN:VEVENT
DTSTART;VALUE=DATE:20220811
DTEND;VALUE=DATE:20220814
DTSTAMP:20260425T114149
CREATED:20220608T185202Z
LAST-MODIFIED:20220608T185655Z
UID:7015-1660176000-1660435199@tennisinvt.com
SUMMARY:USTA VT Junior Grand Prix Singles/Doubles Tournaments
DESCRIPTION:U18 Singles and Doubles Divisions\nActual Event Time TBD
URL:https://tennisinvt.com/event/usta-vt-junior-grand-prix-singles-doubles-tournaments/
LOCATION:Edge Essex\, 4 Gauthier Drive\, Essex\, VT\, 05452\, United States
CATEGORIES:Junior USTA Tennis
ORGANIZER;CN="Tammy Azur":MAILTO:tammya@edgevt.com
END:VEVENT
BEGIN:VEVENT
DTSTART;VALUE=DATE:20220806
DTEND;VALUE=DATE:20220807
DTSTAMP:20260425T114149
CREATED:20220608T184616Z
LAST-MODIFIED:20220608T184616Z
UID:7009-1659744000-1659830399@tennisinvt.com
SUMMARY:U18 JTT
DESCRIPTION:Actual Event Time TBD
URL:https://tennisinvt.com/event/u18-jtt-4/
LOCATION:Edge Essex\, 4 Gauthier Drive\, Essex\, VT\, 05452\, United States
CATEGORIES:Junior USTA Tennis
ORGANIZER;CN="Tammy Azur":MAILTO:tammya@edgevt.com
END:VEVENT
BEGIN:VEVENT
DTSTART;VALUE=DATE:20220728
DTEND;VALUE=DATE:20220729
DTSTAMP:20260425T114149
CREATED:20220608T184444Z
LAST-MODIFIED:20220608T184444Z
UID:7007-1658966400-1659052799@tennisinvt.com
SUMMARY:U18 JTT
DESCRIPTION:Actual Event Time TBD.
URL:https://tennisinvt.com/event/u18-jtt-3/
LOCATION:Edge Essex\, 4 Gauthier Drive\, Essex\, VT\, 05452\, United States
CATEGORIES:Junior USTA Tennis
ORGANIZER;CN="Tammy Azur":MAILTO:tammya@edgevt.com
END:VEVENT
BEGIN:VEVENT
DTSTART;VALUE=DATE:20220714
DTEND;VALUE=DATE:20220715
DTSTAMP:20260425T114149
CREATED:20220608T184358Z
LAST-MODIFIED:20220608T184511Z
UID:7005-1657756800-1657843199@tennisinvt.com
SUMMARY:U18 JTT
DESCRIPTION:Actual Event Time TBD.
URL:https://tennisinvt.com/event/u18-jtt-2/
LOCATION:Edge Essex\, 4 Gauthier Drive\, Essex\, VT\, 05452\, United States
CATEGORIES:Junior USTA Tennis
ORGANIZER;CN="Tammy Azur":MAILTO:tammya@edgevt.com
END:VEVENT
BEGIN:VEVENT
DTSTART;VALUE=DATE:20220713
DTEND;VALUE=DATE:20220714
DTSTAMP:20260425T114149
CREATED:20220608T183227Z
LAST-MODIFIED:20220608T184146Z
UID:6994-1657670400-1657756799@tennisinvt.com
SUMMARY:U14 JTT Event
DESCRIPTION:Actual Event Time TBD.
URL:https://tennisinvt.com/event/u14-jtt-event-2/
LOCATION:Edge Essex\, 4 Gauthier Drive\, Essex\, VT\, 05452\, United States
CATEGORIES:Junior USTA Tennis
ORGANIZER;CN="Tammy Azur":MAILTO:tammya@edgevt.com
END:VEVENT
BEGIN:VEVENT
DTSTART;VALUE=DATE:20220707
DTEND;VALUE=DATE:20220710
DTSTAMP:20260425T114149
CREATED:20220608T184949Z
LAST-MODIFIED:20220608T185710Z
UID:7013-1657152000-1657411199@tennisinvt.com
SUMMARY:USTA VT Junior Grand Prix Singles and Doubles Divisions
DESCRIPTION:U14 and U18 Singles and Doubles\nActual Event Time TBD
URL:https://tennisinvt.com/event/usta-vt-junior-grand-prix-singles-and-doubles-divisions/
LOCATION:Edge Essex\, 4 Gauthier Drive\, Essex\, VT\, 05452\, United States
CATEGORIES:Junior USTA Tennis
ORGANIZER;CN="Tammy Azur":MAILTO:tammya@edgevt.com
END:VEVENT
BEGIN:VEVENT
DTSTART;VALUE=DATE:20220623
DTEND;VALUE=DATE:20220626
DTSTAMP:20260425T114149
CREATED:20220608T184831Z
LAST-MODIFIED:20220608T185728Z
UID:7011-1655942400-1656201599@tennisinvt.com
SUMMARY:USTA VT Junior Grand Prix Singles Tournament
DESCRIPTION:U12\, U14\, U18\nActual Event Time TBD.
URL:https://tennisinvt.com/event/usta-vt-junior-grand-prix-singles-tournament/
LOCATION:Edge Essex\, 4 Gauthier Drive\, Essex\, VT\, 05452\, United States
CATEGORIES:Junior USTA Tennis
ORGANIZER;CN="Tammy Azur":MAILTO:tammya@edgevt.com
END:VEVENT
BEGIN:VEVENT
DTSTART;VALUE=DATE:20220616
DTEND;VALUE=DATE:20220617
DTSTAMP:20260425T114149
CREATED:20220608T184303Z
LAST-MODIFIED:20220608T184303Z
UID:7003-1655337600-1655423999@tennisinvt.com
SUMMARY:U18 JTT
DESCRIPTION:Actual Event Time TBD.
URL:https://tennisinvt.com/event/u18-jtt/
LOCATION:Edge Essex\, 4 Gauthier Drive\, Essex\, VT\, 05452\, United States
CATEGORIES:Junior USTA Tennis
ORGANIZER;CN="Tammy Azur":MAILTO:tammya@edgevt.com
END:VEVENT
BEGIN:VEVENT
DTSTART;TZID=UTC:20220611T120000
DTEND;TZID=UTC:20220611T130000
DTSTAMP:20260425T114149
CREATED:20220608T183002Z
LAST-MODIFIED:20220608T185538Z
UID:6988-1654948800-1654952400@tennisinvt.com
SUMMARY:U14 JTT Event
DESCRIPTION:Actual Event Time TBD.
URL:https://tennisinvt.com/event/u14-jtt-event/
LOCATION:Edge Essex\, 4 Gauthier Drive\, Essex\, VT\, 05452\, United States
CATEGORIES:Junior USTA Tennis
ORGANIZER;CN="Tammy Azur":MAILTO:tammya@edgevt.com
END:VEVENT
BEGIN:VEVENT
DTSTART;TZID=UTC:20200823T080000
DTEND;TZID=UTC:20200823T170000
DTSTAMP:20260425T114149
CREATED:20200711T161927Z
LAST-MODIFIED:20200711T161927Z
UID:46-1598169600-1598202000@tennisinvt.com
SUMMARY:Vermont Senior Games
DESCRIPTION:This will be a qualifying year for Vermont Senior games so if you are able to win your division\, you will be invited to compete in the National Senior games next year. \nThe games will be held at Burlington Country Club. \n 
URL:https://tennisinvt.com/event/vermont-senior-games/
LOCATION:Burlington Tennis Club\, 1 East Terrace\, South Burlington\, Vermont\, 05403
CATEGORIES:Adult
END:VEVENT
END:VCALENDAR