BEGIN:VCALENDAR
VERSION:2.0
PRODID:-//Tennis in Vermont - ECPv6.15.20//NONSGML v1.0//EN
CALSCALE:GREGORIAN
METHOD:PUBLISH
X-WR-CALNAME:Tennis in Vermont
X-ORIGINAL-URL:https://tennisinvt.com
X-WR-CALDESC:Events for Tennis in Vermont
REFRESH-INTERVAL;VALUE=DURATION:PT1H
X-Robots-Tag:noindex
X-PUBLISHED-TTL:PT1H
BEGIN:VTIMEZONE
TZID:UTC
BEGIN:STANDARD
TZOFFSETFROM:+0000
TZOFFSETTO:+0000
TZNAME:UTC
DTSTART:20240101T000000
END:STANDARD
END:VTIMEZONE
BEGIN:VEVENT
DTSTART;TZID=UTC:20251005T100000
DTEND;TZID=UTC:20251005T140000
DTSTAMP:20260423T231414
CREATED:20250720T143704Z
LAST-MODIFIED:20250720T143704Z
UID:8145-1759658400-1759672800@tennisinvt.com
SUMMARY:Saint Michael's Men's Tennis at Connecticut College
DESCRIPTION:
URL:https://tennisinvt.com/event/saint-michaels-mens-tennis-at-connecticut-college/
LOCATION:Connecticut College\, New London\, CT\, United States
END:VEVENT
BEGIN:VEVENT
DTSTART;TZID=UTC:20251004T130000
DTEND;TZID=UTC:20251004T160000
DTSTAMP:20260423T231414
CREATED:20250720T143412Z
LAST-MODIFIED:20250720T143412Z
UID:8143-1759582800-1759593600@tennisinvt.com
SUMMARY:Saint Michael's Men's Tennis at Assumption
DESCRIPTION:
URL:https://tennisinvt.com/event/saint-michaels-mens-tennis-at-assumption-2/
LOCATION:Assumption College\, Worcester\, Massachusetts
END:VEVENT
BEGIN:VEVENT
DTSTART;TZID=UTC:20251004T130000
DTEND;TZID=UTC:20251004T160000
DTSTAMP:20260423T231414
CREATED:20250720T140358Z
LAST-MODIFIED:20250720T140358Z
UID:8117-1759582800-1759593600@tennisinvt.com
SUMMARY:Saint Michael's Women's Tennis at Assumption
DESCRIPTION:
URL:https://tennisinvt.com/event/saint-michaels-womens-tennis-at-assumption/
LOCATION:Assumption College\, Worcester\, Massachusetts
END:VEVENT
BEGIN:VEVENT
DTSTART;VALUE=DATE:20251003
DTEND;VALUE=DATE:20251005
DTSTAMP:20260423T231414
CREATED:20250809T134256Z
LAST-MODIFIED:20250809T134256Z
UID:8192-1759449600-1759622399@tennisinvt.com
SUMMARY:Tennis Weekend
DESCRIPTION:This year’s focus once again is on growing\, supporting and developing coaches throughout New England. The section will provide a full lineup of local and national experts presenting on their experiences and best practices to help fellow coaches and players. The awards ceremony will be held on October 4th\, and will include one VERMONT winner! We are excited to celebrate Vermonters at any place\, any time!  \nHotel Accommodations must be booked by September 11 at Doubletree by Hilton in Nashua. Registration information and access to the USTA hotel booking rate are provided here.  Click here for more information and to register for USTA New England’s 2025 Tennis weekend \nUSTA Vermont has committed to supporting 11 attendees with scholarships to cover fees and partial hotel stipends by reimbursement. Please reach out to Joanna with questions at ustavtassoc@gmail.com  \n 
URL:https://tennisinvt.com/event/tennis-weekend/
LOCATION:Hampshire Hills Tennis Club\, Milford\, NH\, United States
END:VEVENT
BEGIN:VEVENT
DTSTART;VALUE=DATE:20251003
DTEND;VALUE=DATE:20251006
DTSTAMP:20260423T231414
CREATED:20250720T161835Z
LAST-MODIFIED:20250720T161835Z
UID:8161-1759449600-1759708799@tennisinvt.com
SUMMARY:Middlebury Women's Tennis at Bowdoin Invitational
DESCRIPTION:
URL:https://tennisinvt.com/event/middlebury-womens-tennis-at-bowdoin-invitational/
LOCATION:Bowdoin\, Brunswick\, ME\, United States
END:VEVENT
BEGIN:VEVENT
DTSTART;VALUE=DATE:20250926
DTEND;VALUE=DATE:20250929
DTSTAMP:20260423T231414
CREATED:20250720T161711Z
LAST-MODIFIED:20250720T161711Z
UID:8159-1758844800-1759103999@tennisinvt.com
SUMMARY:Middlebury Women's Tennis ITA Regional Championships
DESCRIPTION:
URL:https://tennisinvt.com/event/middlebury-womens-tennis-ita-regional-championships/
LOCATION:Middlebury College\, VT\, United States
END:VEVENT
BEGIN:VEVENT
DTSTART;VALUE=DATE:20250925
DTEND;VALUE=DATE:20250930
DTSTAMP:20260423T231414
CREATED:20250720T143306Z
LAST-MODIFIED:20250720T143306Z
UID:8140-1758758400-1759190399@tennisinvt.com
SUMMARY:Saint Michael's Men's Tennis at ITA East Regional Championship
DESCRIPTION:Saint Michael’s Men’s Tennis will travel to play in the Intercollegiate Tennis Association (ITA) East Regional Championship. The tournament\, which features singles and doubles draws\, is taking place at the United States Tennis Association (USTA) Billie Jean King National Tennis Center\, home of the US Open grand slam event since 1978.
URL:https://tennisinvt.com/event/saint-michaels-mens-tennis-at-ita-east-regional-championship/
LOCATION:USTA Billie Jean King National Tennis Center\, Flushing\, NY\, United States
END:VEVENT
BEGIN:VEVENT
DTSTART;VALUE=DATE:20250925
DTEND;VALUE=DATE:20250930
DTSTAMP:20260423T231414
CREATED:20250720T140247Z
LAST-MODIFIED:20250720T140247Z
UID:8113-1758758400-1759190399@tennisinvt.com
SUMMARY:Saint Michael's Women's Tennis at ITA East Regional Championship
DESCRIPTION:Saint Michael’s Women’s Tennis will travel to play in the Intercollegiate Tennis Association (ITA) East Regional Championship. The tournament\, which features singles and doubles draws\, is taking place at the United States Tennis Association (USTA) Billie Jean King National Tennis Center\, home of the US Open grand slam event since 1978.
URL:https://tennisinvt.com/event/saint-michaels-womens-tennis-at-ita-east-regional-championship/
LOCATION:USTA Billie Jean King National Tennis Center\, Flushing\, NY\, United States
END:VEVENT
BEGIN:VEVENT
DTSTART;TZID=UTC:20250920T130000
DTEND;TZID=UTC:20250920T160000
DTSTAMP:20260423T231414
CREATED:20250720T143057Z
LAST-MODIFIED:20250720T143057Z
UID:8138-1758373200-1758384000@tennisinvt.com
SUMMARY:Saint Michael's Men's Tennis vs Bentley
DESCRIPTION:
URL:https://tennisinvt.com/event/saint-michaels-mens-tennis-vs-bentley/
LOCATION:Saint Michael’s College\, Colchester\, Vermont
END:VEVENT
BEGIN:VEVENT
DTSTART;TZID=UTC:20250920T100000
DTEND;TZID=UTC:20250920T130000
DTSTAMP:20260423T231414
CREATED:20250720T135526Z
LAST-MODIFIED:20250720T135526Z
UID:8109-1758362400-1758373200@tennisinvt.com
SUMMARY:Saint Michael's Women's Tennis vs Bentley
DESCRIPTION:
URL:https://tennisinvt.com/event/saint-michaels-womens-tennis-vs-bentley/
LOCATION:Saint Michael’s College\, Colchester\, Vermont
END:VEVENT
BEGIN:VEVENT
DTSTART;VALUE=DATE:20250920
DTEND;VALUE=DATE:20250922
DTSTAMP:20260423T231414
CREATED:20250720T162250Z
LAST-MODIFIED:20250720T162250Z
UID:8167-1758326400-1758499199@tennisinvt.com
SUMMARY:Middlebury Men's Tennis Middlebury Invitational
DESCRIPTION:
URL:https://tennisinvt.com/event/middlebury-mens-tennis-middlebury-invitational/
LOCATION:Middlebury College\, VT\, United States
END:VEVENT
BEGIN:VEVENT
DTSTART;TZID=UTC:20250914T100000
DTEND;TZID=UTC:20250914T130000
DTSTAMP:20260423T231414
CREATED:20250720T135414Z
LAST-MODIFIED:20250720T135414Z
UID:8106-1757844000-1757854800@tennisinvt.com
SUMMARY:Saint Michael's Women's Tennis at Post
DESCRIPTION:
URL:https://tennisinvt.com/event/saint-michaels-womens-tennis-at-post/
LOCATION:Post University\, Middlebury\, CT\, United States
END:VEVENT
BEGIN:VEVENT
DTSTART;VALUE=DATE:20250913
DTEND;VALUE=DATE:20250914
DTSTAMP:20260423T231414
CREATED:20250720T135150Z
LAST-MODIFIED:20250720T135150Z
UID:8102-1757721600-1757807999@tennisinvt.com
SUMMARY:Saint Michael's Women's Tennis at Saint Anselm
DESCRIPTION:The Purple Knights will travel to Manchester\, NH\, to face Saint Anselm in their first conference match of the 2025–2026 season.
URL:https://tennisinvt.com/event/saint-michaels-womens-tennis-at-saint-anselm/
LOCATION:Saint Anselm\, Manchester\, NH\, United States
END:VEVENT
BEGIN:VEVENT
DTSTART;VALUE=DATE:20250912
DTEND;VALUE=DATE:20250915
DTSTAMP:20260423T231414
CREATED:20250720T161430Z
LAST-MODIFIED:20250720T161430Z
UID:8157-1757635200-1757894399@tennisinvt.com
SUMMARY:Middlebury Women's Tennis Panther Challenge
DESCRIPTION:
URL:https://tennisinvt.com/event/middlebury-womens-tennis-panther-challenge/
END:VEVENT
BEGIN:VEVENT
DTSTART;TZID=UTC:20250910T150000
DTEND;TZID=UTC:20250910T180000
DTSTAMP:20260423T231414
CREATED:20250720T142930Z
LAST-MODIFIED:20250720T142930Z
UID:8136-1757516400-1757527200@tennisinvt.com
SUMMARY:Saint Michael's Men's Tennis at Colby-Sawyer
DESCRIPTION:
URL:https://tennisinvt.com/event/saint-michaels-mens-tennis-at-colby-sawyer/
LOCATION:Colby-Sawyer\, New London\, NH\, United States
END:VEVENT
BEGIN:VEVENT
DTSTART;TZID=UTC:20250906T130000
DTEND;TZID=UTC:20250906T160000
DTSTAMP:20260423T231414
CREATED:20250720T142805Z
LAST-MODIFIED:20250720T142805Z
UID:8133-1757163600-1757174400@tennisinvt.com
SUMMARY:Saint Michael's Men's Tennis at Endicott
DESCRIPTION:Saint Michael’s Men’s Tennis will open their fall 2025 season on the road\, traveling to Beverly\, MA\, to take on Endicott. The first serve is scheduled for 1 pm on Saturday September 6th.
URL:https://tennisinvt.com/event/saint-michaels-mens-tennis-at-endicott/
LOCATION:Endicott\, Beverly\, MA\, United States
END:VEVENT
BEGIN:VEVENT
DTSTART;TZID=UTC:20250906T130000
DTEND;TZID=UTC:20250906T160000
DTSTAMP:20260423T231414
CREATED:20250720T134813Z
LAST-MODIFIED:20250720T134813Z
UID:8099-1757163600-1757174400@tennisinvt.com
SUMMARY:Saint Michael's Women's Tennis at Endicott
DESCRIPTION:
URL:https://tennisinvt.com/event/saint-michaels-womens-tennis-at-endicott/
LOCATION:Endicott\, Beverly\, MA\, United States
END:VEVENT
BEGIN:VEVENT
DTSTART;VALUE=DATE:20250903
DTEND;VALUE=DATE:20250904
DTSTAMP:20260423T231414
CREATED:20250720T134635Z
LAST-MODIFIED:20250720T134635Z
UID:8096-1756857600-1756943999@tennisinvt.com
SUMMARY:Saint Michael's Women's Tennis at Colby-Sawyer
DESCRIPTION:
URL:https://tennisinvt.com/event/saint-michaels-womens-tennis-at-colby-sawyer/
LOCATION:Colby-Sawyer\, New London\, NH\, United States
END:VEVENT
BEGIN:VEVENT
DTSTART;VALUE=DATE:20250830
DTEND;VALUE=DATE:20250831
DTSTAMP:20260423T231414
CREATED:20250720T134316Z
LAST-MODIFIED:20250720T134316Z
UID:8093-1756512000-1756598399@tennisinvt.com
SUMMARY:Saint Michael's Women's Tennis at SUNY Plattsburgh
DESCRIPTION:Saint Michael’s Women’s Tennis will open their fall 2025 season on the road\, traveling to Plattsburgh\, New York\, to take on SUNY Farmingdale and SUNY Plattsburgh. The Purple Knights will face SUNY Farmingdale at 10 a.m.\, followed by a matchup against host SUNY Plattsburgh with first serve scheduled for 3 p.m.
URL:https://tennisinvt.com/event/saint-michaels-womens-tennis-at-suny-plattsburgh/
LOCATION:SUNY Plattsburgh\, Plattsburg\, NY\, United States
END:VEVENT
BEGIN:VEVENT
DTSTART;VALUE=DATE:20250813
DTEND;VALUE=DATE:20250815
DTSTAMP:20260423T231414
CREATED:20250812T181748Z
LAST-MODIFIED:20250812T181809Z
UID:8203-1755043200-1755215999@tennisinvt.com
SUMMARY:JTT Summer Sectionals
DESCRIPTION:JTT Summer Sectionals will be held on August 13&14th at the Forest Park courts in Springfield\, MA. Vermont will be represented by U14 and U18 teams from the Burlington area. The Essex Edge U18 group is defending their 2024 Championship title! They will be coached by Tammy Azur of the Sports and Fitness Edge from Essex\, VT.
URL:https://tennisinvt.com/event/jtt-summer-sectionals/
LOCATION:Forest Park Courts\, 309 Sumner Ave\, Springfield\, Massachusetts\, 01108
END:VEVENT
BEGIN:VEVENT
DTSTART;VALUE=DATE:20250802
DTEND;VALUE=DATE:20250803
DTSTAMP:20260423T231414
CREATED:20250727T192549Z
LAST-MODIFIED:20250727T192549Z
UID:8172-1754092800-1754179199@tennisinvt.com
SUMMARY:USTA Southern Vermont August Classic L7 BG 12U & 14U
DESCRIPTION:
URL:https://tennisinvt.com/event/usta-southern-vermont-august-classic-l7-bg-12u-14u/
LOCATION:Brattleboro Union High School\, 131 Fairground Rd\, Brattleboro\, VT\, 05031\, United States
END:VEVENT
BEGIN:VEVENT
DTSTART;TZID=UTC:20250726T080000
DTEND;TZID=UTC:20250726T170000
DTSTAMP:20260423T231414
CREATED:20250711T140015Z
LAST-MODIFIED:20250711T170329Z
UID:8067-1753516800-1753549200@tennisinvt.com
SUMMARY:Junior & Family Round Robin *RSVP by July 23
DESCRIPTION:The Stowe Tennis Club would like to welcome all of our junior members and tennis program participants (members and non-members alike) to choose a doubles partner from their family and join us for this fun event. Creative team names encouraged! For the most enjoyment\, juniors should be capable of playing match points and should be 14 and under. Their doubles partner can be any family member\, member or non-member\, including parents\, older siblings\, uncles/aunts\, grandparents\, godparents\, etc. For more information on this event\, please visit https://stowetennisclub.com/event-6110775.
URL:https://tennisinvt.com/event/junior-family-round-robin/
LOCATION:Stowe Tennis Club\, 1180 Barrows Road\, Stowe\, VT\, 05672
END:VEVENT
BEGIN:VEVENT
DTSTART;TZID=UTC:20250719T093000
DTEND;TZID=UTC:20250719T170000
DTSTAMP:20260423T231414
CREATED:20250711T135910Z
LAST-MODIFIED:20250711T170535Z
UID:8065-1752917400-1752944400@tennisinvt.com
SUMMARY:Jack Seivwright Fire Me Up Tennis Event
DESCRIPTION:Join the Stowe Tennis Club for this special annual tennis event to celebrate the life and tennis career of Jackson Seivwright. Current and former junior players\, current members\, SHS tennis alumni\, past teammates\, and community friends (members and non-members alike) are warmly welcome to grab a doubles partner and play like Jack! \n*Breakfast pastries\, coffee and more will be provided by Black Cap Coffee. Lunch will be provided by Edelweiss Deli. \nFor more information\, please visit https://stowetennisclub.com/event-6212959 or call (802)-253-8250.
URL:https://tennisinvt.com/event/jack-seivwright-fire-me-up-tennis-event/
LOCATION:Stowe Tennis Club\, 1180 Barrows Road\, Stowe\, VT\, 05672
END:VEVENT
BEGIN:VEVENT
DTSTART;TZID=UTC:20250718T080000
DTEND;TZID=UTC:20250720T170000
DTSTAMP:20260423T231414
CREATED:20250711T140532Z
LAST-MODIFIED:20250711T170733Z
UID:8069-1752825600-1753030800@tennisinvt.com
SUMMARY:Cliff Drysdale Tennis Boot Camp
DESCRIPTION:​Join the Cliff Drysdale Tennis Team for Doubles Boot Camp. Designed to elevate your doubles game\, this unique camp will teach you such techniques as Smart Shot Selection\, how to be a relentless attacker and how to stand your ground in doubles. Doubles Boot Camp is designed for players of all levels that regularly play doubles and are looking to improve their tactical and strategic knowledge. We will focus on doubles specific drills to help improve your match play. This is a coed camp for individuals\, couples or groups\, with grouping and instruction based on ability. Participants will work with all of our pros and will have the opportunity to hit with many different players. To find the schedule\, to register\, or for more information\, please visit https://www.experiencecdt.com/stratton-doubles-boot-camp.
URL:https://tennisinvt.com/event/cliff-drysdale-tennis-boot-camp/
LOCATION:Stratton Training and Fitness Center\, 10 Arbor Rd\, Stratton\, Vermont\, 05360
END:VEVENT
BEGIN:VEVENT
DTSTART;TZID=UTC:20250714T080000
DTEND;TZID=UTC:20250730T170000
DTSTAMP:20260423T231414
CREATED:20250711T175948Z
LAST-MODIFIED:20250711T180217Z
UID:8078-1752480000-1753894800@tennisinvt.com
SUMMARY:Tennis in the Parks (Grades 3-5)
DESCRIPTION:Beginning July 14\, Winooski Parks & Recreation is hosting Tennis in the Parks for grades 3-5. This opportunity is great if you are looking to get your kids into tennis for the summer! The program meets every Monday and Wednesday from 4:30 to 5:30 pm. For more information on registration or general questions\, please visit https://secure.rec1.com/VT/winooski-vt-2/.
URL:https://tennisinvt.com/event/tennis-in-the-parks-grades-3-5/
LOCATION:Landry Park Tennis Courts\, 53 Pine Street\, Winooski\, VT\, United States
END:VEVENT
BEGIN:VEVENT
DTSTART;TZID=UTC:20250714T080000
DTEND;TZID=UTC:20250730T170000
DTSTAMP:20260423T231414
CREATED:20250711T175819Z
LAST-MODIFIED:20250711T180249Z
UID:8074-1752480000-1753894800@tennisinvt.com
SUMMARY:Tennis in the Parks (Grades 1-2)
DESCRIPTION:Beginning July 14\, Winooski Parks & Recreation is hosting Tennis in the Parks for grades 1-2 as well as grades 3-5. This opportunity is great if you are looking to get your kids into tennis for the summer! The program meets every Monday and Wednesday from 3:30 to 4:30 pm. For more information on registration or general questions\, please visit https://secure.rec1.com/VT/winooski-vt-2/.
URL:https://tennisinvt.com/event/tennis-in-the-parks-grades-1-2/
LOCATION:Landry Park Tennis Courts\, 53 Pine Street\, Winooski\, VT\, United States
END:VEVENT
BEGIN:VEVENT
DTSTART;TZID=UTC:20250712T080000
DTEND;TZID=UTC:20250816T170000
DTSTAMP:20260423T231414
CREATED:20250711T180141Z
LAST-MODIFIED:20250711T180141Z
UID:8082-1752307200-1755363600@tennisinvt.com
SUMMARY:Tennis in the Parks (Adults)
DESCRIPTION:Beginning July 14\, Winooski Parks & Recreation is hosting Tennis in the Parks for adults 18+. This opportunity is great if you are looking to get into tennis this summer! The program meets every Saturday from 9 to 10:30 am. For more information on registration or general questions\, please visit https://secure.rec1.com/VT/winooski-vt-2/.
URL:https://tennisinvt.com/event/tennis-in-the-parks-adults/
LOCATION:Landry Park Tennis Courts\, 53 Pine Street\, Winooski\, VT\, United States
END:VEVENT
BEGIN:VEVENT
DTSTART;VALUE=DATE:20250620
DTEND;VALUE=DATE:20250623
DTSTAMP:20260423T231414
CREATED:20250618T051809Z
LAST-MODIFIED:20250618T051809Z
UID:8058-1750377600-1750636799@tennisinvt.com
SUMMARY:All Comers Wheelchair Tennis Camp
DESCRIPTION:This three-day camp experience is led by USTA Wheelchair Tennis National Coach\, Paul Walker\, and is for both juniors and adults requiring wheelchair use for sports seeking to grow their love for the sport!\n\n\nThe weekend event includes 16 hours of on-court instruction\, breakfasts\, lunches and dinners & the chance to meet and network with wheelchair athletes from all across the region.\nSpace is limited to the first 20 players!
URL:https://tennisinvt.com/event/all-comers-wheelchair-tennis-camp-2/
LOCATION:Babson College\, 231 Forest St\, Babson Park\, Massachusetts\, 02457
END:VEVENT
BEGIN:VEVENT
DTSTART;VALUE=DATE:20250620
DTEND;VALUE=DATE:20250621
DTSTAMP:20260423T231414
CREATED:20250618T051652Z
LAST-MODIFIED:20250618T051652Z
UID:8055-1750377600-1750463999@tennisinvt.com
SUMMARY:USTA New England Coaches Symposium
DESCRIPTION:The USTA New England Coaches Symposium is a four-hour workshop that prepares coaches for the summer. We’re looking for coaches who want to learn new strategies\, network\, and share best practices.
URL:https://tennisinvt.com/event/usta-new-england-coaches-symposium/
LOCATION:Babson College\, 231 Forest St\, Babson Park\, Massachusetts\, 02457
END:VEVENT
BEGIN:VEVENT
DTSTART;TZID=UTC:20250619T090000
DTEND;TZID=UTC:20250619T170000
DTSTAMP:20260423T231414
CREATED:20250618T051357Z
LAST-MODIFIED:20250618T051930Z
UID:8052-1750323600-1750352400@tennisinvt.com
SUMMARY:Wheelchair Tennis Coaches Workshop
DESCRIPTION:This one-day workshop is for anyone interested in coaching wheelchair tennis or adaptive organizations starting wheelchair tennis programs. Register Here
URL:https://tennisinvt.com/event/wheelchair-tennis-coaches-workshop/
LOCATION:Ellington Racquet Club\, 55 Lower Butcher Rd\, Ellington\, Connecticut\, 06029
END:VEVENT
END:VCALENDAR