BEGIN:VCALENDAR
VERSION:2.0
PRODID:-//Tennis in Vermont - ECPv6.15.20//NONSGML v1.0//EN
CALSCALE:GREGORIAN
METHOD:PUBLISH
X-ORIGINAL-URL:https://tennisinvt.com
X-WR-CALDESC:Events for Tennis in Vermont
REFRESH-INTERVAL;VALUE=DURATION:PT1H
X-Robots-Tag:noindex
X-PUBLISHED-TTL:PT1H
BEGIN:VTIMEZONE
TZID:UTC
BEGIN:STANDARD
TZOFFSETFROM:+0000
TZOFFSETTO:+0000
TZNAME:UTC
DTSTART:20220101T000000
END:STANDARD
END:VTIMEZONE
BEGIN:VEVENT
DTSTART;TZID=UTC:20230301T080000
DTEND;TZID=UTC:20230301T170000
DTSTAMP:20260425T201747
CREATED:20220804T132432Z
LAST-MODIFIED:20220804T132432Z
UID:7209-1677657600-1677690000@tennisinvt.com
SUMMARY:Adult 55 & Over | Team Intent Form Due
DESCRIPTION:(6.0\, 7.0\, 8.0\, 9.0)\nMen & Women
URL:https://tennisinvt.com/event/adult-55-over-team-intent-form-due/
LOCATION:VT
CATEGORIES:USTA Tennis
ORGANIZER;CN="Beth Cook":MAILTO:vt-league@newengland.usta.com
END:VEVENT
BEGIN:VEVENT
DTSTART;TZID=UTC:20230311T100000
DTEND;TZID=UTC:20230311T180000
DTSTAMP:20260425T201747
CREATED:20230309T174037Z
LAST-MODIFIED:20230309T174037Z
UID:7429-1678528800-1678557600@tennisinvt.com
SUMMARY:Level 7 U18 Junior Tournament
DESCRIPTION:There are 16+ participants in the draw for this tournament. This is the first tournament event for junior players in a long time!!! USTA Vermont is providing the pizza!
URL:https://tennisinvt.com/event/level-7-u18-junior-tournament/
LOCATION:Edge Eastwood\, 75 Eastwood Drive\, South Burlington\, VT
ATTACH;FMTTYPE=image/jpeg:https://tennisinvt.com/wp-content/uploads/2022/09/20220725_125530-scaled.jpg
ORGANIZER;CN="Tammy Azur":MAILTO:tammya@edgevt.com
END:VEVENT
BEGIN:VEVENT
DTSTART;VALUE=DATE:20230315
DTEND;VALUE=DATE:20230316
DTSTAMP:20260425T201747
CREATED:20230309T174643Z
LAST-MODIFIED:20230309T174643Z
UID:7432-1678838400-1678924799@tennisinvt.com
SUMMARY:Vermont Senior Games Resolution and Celebration at the Vermont Statehouse in Montpelier
DESCRIPTION:Congratulations to Jeanne Hulsen\, Kristen Hartley\, Deb Larkin\, Helga Immerfall\, and John Toshiro\, these gold medal winning national champions will be honord atht he Vermont Statehouse in Montpelier. Please contact Joanna Beall at ustavtassoc@gmail.com for additional information.
URL:https://tennisinvt.com/event/vermont-senior-games-resolution-and-celebration-at-the-vermont-statehouse-in-montpelier/
LOCATION:VT
END:VEVENT
BEGIN:VEVENT
DTSTART;TZID=UTC:20230325T180000
DTEND;TZID=UTC:20230325T213000
DTSTAMP:20260425T201747
CREATED:20230117T130205Z
LAST-MODIFIED:20230117T130813Z
UID:7396-1679767200-1679779800@tennisinvt.com
SUMMARY:Game\, Set & Match!
DESCRIPTION:An Evening to Benefit the Bennington Aces\nThe Fifth annual event to benefit Bennington ACES\, a non-profit organization dedicated to providing tennis and academic opportunities for Bennington area underserved youth. \nEvent Details and Registration »
URL:https://tennisinvt.com/event/game-set-match/
LOCATION:Mt. Anthony Country Club\, 180 Country Club Drive\, Bennington\, VT\, 05201
END:VEVENT
END:VCALENDAR