BEGIN:VCALENDAR
VERSION:2.0
PRODID:-//Tennis in Vermont - ECPv6.15.20//NONSGML v1.0//EN
CALSCALE:GREGORIAN
METHOD:PUBLISH
X-ORIGINAL-URL:https://tennisinvt.com
X-WR-CALDESC:Events for Tennis in Vermont
REFRESH-INTERVAL;VALUE=DURATION:PT1H
X-Robots-Tag:noindex
X-PUBLISHED-TTL:PT1H
BEGIN:VTIMEZONE
TZID:UTC
BEGIN:STANDARD
TZOFFSETFROM:+0000
TZOFFSETTO:+0000
TZNAME:UTC
DTSTART:20240101T000000
END:STANDARD
END:VTIMEZONE
BEGIN:VEVENT
DTSTART;TZID=UTC:20250412T130000
DTEND;TZID=UTC:20250412T130000
DTSTAMP:20260424T080739
CREATED:20250411T191354Z
LAST-MODIFIED:20250411T191354Z
UID:8006-1744462800-1744462800@tennisinvt.com
SUMMARY:Norwich University Men's Tennis at Thomas College
DESCRIPTION:
URL:https://tennisinvt.com/event/norwich-university-mens-tennis-at-thomas-college/
LOCATION:Thomas College\, Waterville\, Maine
END:VEVENT
BEGIN:VEVENT
DTSTART;TZID=UTC:20250413T100000
DTEND;TZID=UTC:20250413T100000
DTSTAMP:20260424T080739
CREATED:20250411T184141Z
LAST-MODIFIED:20250411T185940Z
UID:7967-1744538400-1744538400@tennisinvt.com
SUMMARY:Middlebury Men's Tennis vs Connecticut College
DESCRIPTION:
URL:https://tennisinvt.com/event/middlebury-mens-tennis-vs-connecticut-college/
LOCATION:Middlebury College\, VT\, United States
END:VEVENT
BEGIN:VEVENT
DTSTART;TZID=UTC:20250413T140000
DTEND;TZID=UTC:20250413T140000
DTSTAMP:20260424T080739
CREATED:20250411T185418Z
LAST-MODIFIED:20250411T190014Z
UID:7978-1744552800-1744552800@tennisinvt.com
SUMMARY:Middlebury Women's Tennis vs Connecticut College
DESCRIPTION:
URL:https://tennisinvt.com/event/middlebury-womens-tennis-vs-connecticut-college/
LOCATION:Middlebury College\, VT\, United States
END:VEVENT
BEGIN:VEVENT
DTSTART;TZID=UTC:20250413T160000
DTEND;TZID=UTC:20250413T160000
DTSTAMP:20260424T080739
CREATED:20250411T184750Z
LAST-MODIFIED:20250411T190053Z
UID:7969-1744560000-1744560000@tennisinvt.com
SUMMARY:Middlebury Men's Tennis vs MIT
DESCRIPTION:
URL:https://tennisinvt.com/event/middlebury-mens-tennis-vs-mit/
LOCATION:Middlebury College\, VT\, United States
END:VEVENT
BEGIN:VEVENT
DTSTART;TZID=UTC:20250415T140000
DTEND;TZID=UTC:20250415T140000
DTSTAMP:20260424T080739
CREATED:20250411T190359Z
LAST-MODIFIED:20250411T191733Z
UID:7987-1744725600-1744725600@tennisinvt.com
SUMMARY:Saint Michael's Men's Tennis vs Franklin Pierce
DESCRIPTION:
URL:https://tennisinvt.com/event/saint-michaels-mens-tennis-vs-franklin-pierce/
LOCATION:Saint Michael’s College\, Colchester\, Vermont
END:VEVENT
BEGIN:VEVENT
DTSTART;TZID=UTC:20250416T150000
DTEND;TZID=UTC:20250416T150000
DTSTAMP:20260424T080739
CREATED:20250411T191635Z
LAST-MODIFIED:20250411T191635Z
UID:8009-1744815600-1744815600@tennisinvt.com
SUMMARY:Norwich University Men's Tennis vs VSU Johnson
DESCRIPTION:
URL:https://tennisinvt.com/event/norwich-university-mens-tennis-vs-vsu-johnson/
LOCATION:Norwich University\, Northfield\, Vermont
END:VEVENT
BEGIN:VEVENT
DTSTART;TZID=UTC:20250417T143000
DTEND;TZID=UTC:20250417T143000
DTSTAMP:20260424T080739
CREATED:20250411T192008Z
LAST-MODIFIED:20250411T192008Z
UID:8013-1744900200-1744900200@tennisinvt.com
SUMMARY:Norwich University Men's Tennis vs Rhode Island College
DESCRIPTION:
URL:https://tennisinvt.com/event/norwich-university-mens-tennis-vs-rhode-island-college/
LOCATION:Norwich University\, Northfield\, Vermont
END:VEVENT
BEGIN:VEVENT
DTSTART;TZID=UTC:20250418T140000
DTEND;TZID=UTC:20250418T140000
DTSTAMP:20260424T080739
CREATED:20250411T190453Z
LAST-MODIFIED:20250411T190453Z
UID:7990-1744984800-1744984800@tennisinvt.com
SUMMARY:Saint Michael's Men's Tennis at Queen's College
DESCRIPTION:
URL:https://tennisinvt.com/event/saint-michaels-mens-tennis-at-queens-college/
LOCATION:Queens College\, Queens\, New York
END:VEVENT
BEGIN:VEVENT
DTSTART;TZID=UTC:20250419T110000
DTEND;TZID=UTC:20250419T110000
DTSTAMP:20260424T080739
CREATED:20250411T190556Z
LAST-MODIFIED:20250411T190556Z
UID:7993-1745060400-1745060400@tennisinvt.com
SUMMARY:Saint Michael's Men's Tennis at Adelphi
DESCRIPTION:
URL:https://tennisinvt.com/event/saint-michaels-mens-tennis-at-adelphi/
LOCATION:Adelphi University\, Garden City\, New York
END:VEVENT
BEGIN:VEVENT
DTSTART;TZID=UTC:20250419T120000
DTEND;TZID=UTC:20250419T120000
DTSTAMP:20260424T080739
CREATED:20250411T184920Z
LAST-MODIFIED:20250411T184920Z
UID:7971-1745064000-1745064000@tennisinvt.com
SUMMARY:Middlebury Men's Tennis at Williams College
DESCRIPTION:
URL:https://tennisinvt.com/event/middlebury-mens-tennis-at-williams-college/
LOCATION:Williams College\, Williamstown\, Massachusetts
END:VEVENT
BEGIN:VEVENT
DTSTART;TZID=UTC:20250419T130000
DTEND;TZID=UTC:20250419T130000
DTSTAMP:20260424T080739
CREATED:20250411T185614Z
LAST-MODIFIED:20250411T185614Z
UID:7980-1745067600-1745067600@tennisinvt.com
SUMMARY:Middlebury Women's Tennis vs Williams College
DESCRIPTION:
URL:https://tennisinvt.com/event/middlebury-womens-tennis-vs-williams-college/
LOCATION:Middlebury College\, VT\, United States
END:VEVENT
BEGIN:VEVENT
DTSTART;TZID=UTC:20250419T130000
DTEND;TZID=UTC:20250419T130000
DTSTAMP:20260424T080739
CREATED:20250411T192121Z
LAST-MODIFIED:20250411T192121Z
UID:8015-1745067600-1745067600@tennisinvt.com
SUMMARY:Norwich University Men's Tennis at VTSU Lyndon
DESCRIPTION:
URL:https://tennisinvt.com/event/norwich-university-mens-tennis-at-vtsu-lyndon/
LOCATION:VTSU Lyndon\, Lyndon\, Vermont
END:VEVENT
BEGIN:VEVENT
DTSTART;TZID=UTC:20250422T160000
DTEND;TZID=UTC:20250422T160000
DTSTAMP:20260424T080739
CREATED:20250411T190758Z
LAST-MODIFIED:20250411T190758Z
UID:7996-1745337600-1745337600@tennisinvt.com
SUMMARY:Saint Michael's Men's Tennis at Assumption
DESCRIPTION:
URL:https://tennisinvt.com/event/saint-michaels-mens-tennis-at-assumption/
LOCATION:Assumption College\, Worcester\, Massachusetts
END:VEVENT
BEGIN:VEVENT
DTSTART;TZID=UTC:20250423T150000
DTEND;TZID=UTC:20250423T150000
DTSTAMP:20260424T080739
CREATED:20250411T192349Z
LAST-MODIFIED:20250411T192349Z
UID:8018-1745420400-1745420400@tennisinvt.com
SUMMARY:Norwich University Men's Tennis at VTSU Castleton
DESCRIPTION:
URL:https://tennisinvt.com/event/norwich-university-mens-tennis-at-vtsu-castleton/
LOCATION:VTSU Castleton\, Castleton\, Vermont
END:VEVENT
BEGIN:VEVENT
DTSTART;TZID=UTC:20250426T000000
DTEND;TZID=UTC:20250426T000000
DTSTAMP:20260424T080739
CREATED:20250411T192606Z
LAST-MODIFIED:20250411T192606Z
UID:8021-1745625600-1745625600@tennisinvt.com
SUMMARY:North Atlantic Conference #2 & #3 Quarterfinals
DESCRIPTION:
URL:https://tennisinvt.com/event/north-atlantic-conference-2-3-quarterfinals/
LOCATION:VT
END:VEVENT
BEGIN:VEVENT
DTSTART;TZID=UTC:20250426T100000
DTEND;TZID=UTC:20250426T100000
DTSTAMP:20260424T080739
CREATED:20250411T185201Z
LAST-MODIFIED:20250411T190220Z
UID:7974-1745661600-1745661600@tennisinvt.com
SUMMARY:Middlebury Men's Tennis vs Wesleyan
DESCRIPTION:
URL:https://tennisinvt.com/event/middlebury-mens-tennis-vs-wesleyan/
LOCATION:Middlebury College\, VT\, United States
END:VEVENT
BEGIN:VEVENT
DTSTART;TZID=UTC:20250426T100000
DTEND;TZID=UTC:20250426T100000
DTSTAMP:20260424T080739
CREATED:20250411T185718Z
LAST-MODIFIED:20250411T185718Z
UID:7982-1745661600-1745661600@tennisinvt.com
SUMMARY:Middlebury Women's Tennis vs Wesleyan
DESCRIPTION:
URL:https://tennisinvt.com/event/middlebury-womens-tennis-vs-wesleyan/
LOCATION:Middlebury College\, VT\, United States
END:VEVENT
BEGIN:VEVENT
DTSTART;TZID=UTC:20250426T120000
DTEND;TZID=UTC:20250426T120000
DTSTAMP:20260424T080739
CREATED:20250422T200932Z
LAST-MODIFIED:20250423T144830Z
UID:8028-1745668800-1745668800@tennisinvt.com
SUMMARY:Saint Michael's Mens Tennis vs SNHU (Senior Day!)
DESCRIPTION:
URL:https://tennisinvt.com/event/saint-michaels-mens-tennis-vs-snhu/
LOCATION:Saint Michael’s College\, Colchester\, Vermont
END:VEVENT
BEGIN:VEVENT
DTSTART;TZID=UTC:20250427T100000
DTEND;TZID=UTC:20250427T100000
DTSTAMP:20260424T080739
CREATED:20250411T185907Z
LAST-MODIFIED:20250411T185907Z
UID:7984-1745748000-1745748000@tennisinvt.com
SUMMARY:Middlebury Women's Tennis vs Trinity College (Senior Day!)
DESCRIPTION:
URL:https://tennisinvt.com/event/middlebury-womens-tennis-vs-trinity-college-senior-day/
LOCATION:VT
END:VEVENT
BEGIN:VEVENT
DTSTART;TZID=UTC:20250427T140000
DTEND;TZID=UTC:20250427T140000
DTSTAMP:20260424T080739
CREATED:20250411T185316Z
LAST-MODIFIED:20250411T191821Z
UID:7976-1745762400-1745762400@tennisinvt.com
SUMMARY:Middlebury Men's Tennis vs Trinity College (Senior Day!)
DESCRIPTION:
URL:https://tennisinvt.com/event/middlebury-mens-tennis-vs-trinity-college-senior-day/
LOCATION:Middlebury College\, VT\, United States
END:VEVENT
END:VCALENDAR