BEGIN:VCALENDAR
VERSION:2.0
PRODID:-//Tennis in Vermont - ECPv6.15.20//NONSGML v1.0//EN
CALSCALE:GREGORIAN
METHOD:PUBLISH
X-ORIGINAL-URL:https://tennisinvt.com
X-WR-CALDESC:Events for Tennis in Vermont
REFRESH-INTERVAL;VALUE=DURATION:PT1H
X-Robots-Tag:noindex
X-PUBLISHED-TTL:PT1H
BEGIN:VTIMEZONE
TZID:UTC
BEGIN:STANDARD
TZOFFSETFROM:+0000
TZOFFSETTO:+0000
TZNAME:UTC
DTSTART:20230101T000000
END:STANDARD
END:VTIMEZONE
BEGIN:VEVENT
DTSTART;VALUE=DATE:20240726
DTEND;VALUE=DATE:20240729
DTSTAMP:20260425T204454
CREATED:20240712T215433Z
LAST-MODIFIED:20240712T215749Z
UID:7811-1721952000-1722211199@tennisinvt.com
SUMMARY:All Comers Wheelchair Tennis Camp
DESCRIPTION:REGISTER TODAY for the All Comers Wheelchair Tennis Camp hosted by USTA New England in partnership with South Coast Wheelchair Tennis Foundation. The three day camp is open to all individuals who use a wheelchair for sports. This training is for adults and juniors (12 yrs. or older)\, beginners and advanced players\, All ARE WELCOME! \nSpace is limited to the first 20 players to register! \nAll meals and special social event are included in your registration fee. \nUSTA New England Diversity Equity and Inclusion \nFostering a culture that values and celebrates diversity\, equity and inclusion by creating pathways of accessibility to ensure everyone has the opportunity to participate and thrive in our sport\, regardless of background or circumstances. 
URL:https://tennisinvt.com/event/all-comers-wheelchair-tennis-camp/
LOCATION:Chelsea Piers Athletic Club\, 1 Blachley Road\, Stamford\, CT\, United States
CATEGORIES:Adult,USTA Tennis
END:VEVENT
BEGIN:VEVENT
DTSTART;VALUE=DATE:20240727
DTEND;VALUE=DATE:20240729
DTSTAMP:20260425T204454
CREATED:20240712T212925Z
LAST-MODIFIED:20240712T215715Z
UID:7799-1722038400-1722211199@tennisinvt.com
SUMMARY:Vermont Senior Games
DESCRIPTION:The 2024 Vermont Senior Games Association Tennis Championships will be played at a new venue this season. We are excited to be staging the tournament at the Proctor Tennis Courts on the campus of Middlebury College. \nThe Singles and Mixed Doubles are scheduled for Saturday July 27\, with the Men’s and Women’s Doubles to follow on Sunday July 28. \nThe entry fee is $35 per player. Entry into additional events is $10 for each event. Athletes must preregister by Wednesday\, July 24\, 2024. If you are a Vermont resident and the registration fee is preventing you from participating\, access this link to learn about our scholarship program: https://www.vermontseniorgames.org/scholarships \nThe tennis tournament is open to anyone who will be at least 50 years old by 12/31/2024. Out-of-state players are welcome to participate. The VSGA cancellation policy is that anyone who chooses to withdraw from an event and wishes to receive a refund must contact George at least one week prior to the competition date. There will be a $10 processing fee assesses to the refund amount. \nThe tournament format will be determined by the number of participants registered in each event and age group. Doubles competitive age will be that of the younger partner. Vermont Senior Games medals will be awarded to the first three places\, in 5-year age brackets for men and women. NSGA and USTA rules will apply. This event is sponsored by USTA Vermont. \nThis tournament is a qualifier for the next National Senior Games\, which will be held July 24 – August 4\, 2025\, in Des Moines\, Iowa. All athletes who finish in the top FOUR in their age group in each event will qualify for the 2025 Nationals. Also note that Vermont entrants cannot be displaced by an out-of-state athlete when determining qualification for Nationals. Thus\, if a Vermonter finishes 5thin an event\, but an out-of-state performer was among the top four\, the Vermonter ‘qualifies down.’ \nThere are nine recently resurfaced hard courts at the Proctor facility. Players should bring a new\, unopened can of tennis balls for each event. Balls will be on sale at the tournament.
URL:https://tennisinvt.com/event/vermont-senior-games-3/
LOCATION:Middlebury College\, VT\, United States
CATEGORIES:Adult
END:VEVENT
END:VCALENDAR